BEGIN:VCALENDAR
VERSION:2.0
PRODID:-//GAMS.be - ECPv6.14.0//NONSGML v1.0//EN
CALSCALE:GREGORIAN
METHOD:PUBLISH
X-WR-CALNAME:GAMS.be
X-ORIGINAL-URL:https://gams.be
X-WR-CALDESC:Events voor GAMS.be
REFRESH-INTERVAL;VALUE=DURATION:PT1H
X-Robots-Tag:noindex
X-PUBLISHED-TTL:PT1H
BEGIN:VTIMEZONE
TZID:Europe/Brussels
BEGIN:DAYLIGHT
TZOFFSETFROM:+0100
TZOFFSETTO:+0200
TZNAME:CEST
DTSTART:20250330T010000
END:DAYLIGHT
BEGIN:STANDARD
TZOFFSETFROM:+0200
TZOFFSETTO:+0100
TZNAME:CET
DTSTART:20251026T010000
END:STANDARD
END:VTIMEZONE
BEGIN:VEVENT
DTSTART;TZID=Europe/Brussels:20251014T120000
DTEND;TZID=Europe/Brussels:20251014T133000
DTSTAMP:20260420T010333
CREATED:20250905T130340Z
LAST-MODIFIED:20251013T152818Z
UID:23226956-1760443200-1760448600@gams.be
SUMMARY:Webinar rond preventie VGV en huwelijksdwang
DESCRIPTION:Webinar rond preventie VGV en huwelijksdwang\nGAMS België organiseert een webinar rond preventie VGV en huwelijksdwang. \nHet webinar is voor iedereen die rechtstreeks werkt met de betrokken doelgroep. \nHet is gegeven door Jente Konings (juriste\, GAMS Be) en Mawda Abbas (verantwoordelijke Community Voices en preventie\, GAMS Be). \n  \nPraktische infos\n\nDatum: Dinsdag 14 oktober 2025\nTijd: 12u00 – 13u30\nOnline (Zoom)\nInschrijving verplicht via dit formulier\n\n\n\n			\n				Ik schrijf me in
URL:https://gams.be/nl/evenement/webinar-rond-preventie-vgv-en-huwelijksdwang-14-oktober/
LOCATION:Online (Zoom)
CATEGORIES:Vorming,Webinar
ATTACH;FMTTYPE=image/png:https://gams.be/wp-content/uploads/2025/05/Visuel-webinaire-NL.png
END:VEVENT
BEGIN:VEVENT
DTSTART;TZID=Europe/Brussels:20251017T133000
DTEND;TZID=Europe/Brussels:20251017T163000
DTSTAMP:20260420T010333
CREATED:20250328T103519Z
LAST-MODIFIED:20250730T063635Z
UID:23225906-1760707800-1760718600@gams.be
SUMMARY:Introductie/opfrisser rond VGV en andere vormen van gendergerelateerd geweld
DESCRIPTION:GAMS België vzw organiseert een opleidingsreeks voor advocaten en juristen rond vrouwelijke genitale verminking en andere vormen van gendergerelateerd geweld. Deze opleiding wordt gratis en in webinar vorm aangeboden\, verdeeld over 3 delen.\n \n \nDeel 1: Introductie/opfrisser rond VGV en andere vormen van gendergerelateerd geweld op vrijdag\n\nVoor wie nog geen voorkennis heeft over deze materie of graag nog eens een opfrisser heeft\, bespreken we de basisbeginselen\, de socioculturele aspecten en het wettelijk kader. Zeker een aanrader voor stagiairs! \n \n\n\n\nPraktische info\n\nDatum: vrijdag 17 oktober 2025\nWanneer: 13u30 – 16u30\nWaar: online\nInschrijving via dit formulier\nVoor meer informatie\, neem contact op met Jente: jente@gams.be\n\n\n\n\n			\n				Ik schrijf me in!
URL:https://gams.be/nl/evenement/introductie-opfrisser-rond-vgv-en-andere-vormen-van-gendergerelateerd-geweld/
LOCATION:Online
CATEGORIES:Webinar
ATTACH;FMTTYPE=image/png:https://gams.be/wp-content/uploads/2025/03/1.png
END:VEVENT
BEGIN:VEVENT
DTSTART;TZID=Europe/Brussels:20251019T130000
DTEND;TZID=Europe/Brussels:20251019T173000
DTSTAMP:20260420T010333
CREATED:20250908T124416Z
LAST-MODIFIED:20250923T084448Z
UID:23226985-1760878800-1760895000@gams.be
SUMMARY:Opendeurdag Antwerpen
DESCRIPTION:Opendeurdag van de antenne in Antwerpen\nIn het kader van de campagne #MijnManierOmNeeTeZeggen\, die op 11 oktober\, Internationale Dag van de Rechten van het Meisje\, van start gaat\, nodigt GAMS België u graag uit voor zijn opendeurdag op 19 oktober 2025. Deze vindt plaats in zijn kantoren in Antwerpen\, Langstraat 102 – 2140 Borgerhout. \n\n\nWaarom #MijnManierOmNeeTeZeggen? \nOmdat er niet één manier is om nee te zeggen. Er zijn gebaren\, woorden\, daden. Deze campagne zet al diegenen in de schijnwerpers die zich op hun eigen manier inzetten tegen VGV. \n\n\n  \n\nAl bijna 30 jaar zet GAMS België zich in om een einde te maken aan genitale verminking van vrouwen (VGV) en om de betrokkenen te begeleiden. Deze dag is een gelegenheid om ons werk te ontdekken\, ons team te ontmoeten en deel te nemen aan unieke workshops die bewustwording en solidariteit combineren. \n\n  \n\n \n\nProgramma\n\n\n13u: Onthaal\n14u: Workshop introductie VGV\n14u: Workshop Menstruatiewelzijn – “Kan ik gaan zwemmen wanneer ik ongesteld ben; trek ik dan geen haaien aan?” Aan de hand van een aantal steekkaarten ontdekken we tijdens deze interactieve workshop welke tradities er bestaan rond menstruatie\, doorbreken we taboes en analyseren we foutieve denkbeelden.\n15u30: Documentaire Habibata Ouarmé – In haar documentaire ‘Koromousso\, Big Sister’ pleit documentairemaakster Habibata Ouarmé voor een betere toegankelijkheid van reconstructieve ingrepen na vrouwelijke genitale verminking (VGV) in Canada. In België bestaan er sinds 2014 twee multidisciplinaire centra waar vrouwen die geconfronteerd werden met VGV terecht kunnen voor deze ingrepen.\n17u30: Afsluiten\n\n\n  \nPraktische info\n\nWanneer? zondag 19 oktober 2025\, 13u – 17u30\nWaar? GAMS Antwerpen (Langstraat 102 – 2140 Borgerhout)\nPrijs: Vrije toegang. Wens je deel te nemen aan een workshop: 5€ (gratis voor kinderen jonger dan 8 jaar). De volledige opbrengst gaat naar de bewustmakingsactiviteiten van GAMS Be. Je kan GAMS Be ook steunen met een extra donatie.\nInschrijving via dit formulier\n\n\n\n			\n				Ik schrijf me in!
URL:https://gams.be/nl/evenement/opendeurdag-antwerpen-2025/
LOCATION:GAMS Antwerpen\, Langstraat 102\, Borgerhout\, Antwerpen\, 2140
CATEGORIES:Evenement
ATTACH;FMTTYPE=image/png:https://gams.be/wp-content/uploads/2025/09/Save-the-date-newsletter-NL-03.09.2025.png
END:VEVENT
BEGIN:VEVENT
DTSTART;TZID=Europe/Brussels:20251024T133000
DTEND;TZID=Europe/Brussels:20251024T163000
DTSTAMP:20260420T010333
CREATED:20250328T105744Z
LAST-MODIFIED:20251013T152038Z
UID:23225919-1761312600-1761323400@gams.be
SUMMARY:VGV binnen het vreemdelingenrecht
DESCRIPTION:GAMS België vzw organiseert een opleidingsreeks voor advocaten en juristen rond vrouwelijke genitale verminking en andere vormen van gendergerelateerd geweld. Deze opleiding wordt gratis en in webinar vorm aangeboden\, verdeeld over 3 delen. \n \n\n \n\nDeel 2: VGV binnen het vreemdelingenrecht\nTijdens dit onderdeel zal eerst de asielprocedure besproken worden met onder andere een bijdrage van onze psychologe over de impact op het persoonlijk onderhoud en aandachtspunten bij rapporten. Vervolgens bespreken we ook de relevantie bij visumprocedures en horen we graag jullie ervaringen uit de praktijk met de nieuwe verblijfsrechtprocedure voor ouders van begeleide minderjarige vluchtelingen. We sluiten af met een overzicht van de recente rechtspraak van de RVV. \n\n  \n  \n\n\nPraktische info\n\nDatum: vrijdag 24 oktober 2025\nWanneer: 13u30 – 16u30\nWaar: online\nInschrijving via dit formulier\nVoor meer informatie\, neem contact op met Jente: jente@gams.be\n\n\n\n\n			\n				Ik schrijf me in!
URL:https://gams.be/nl/evenement/vgv-binnen-het-vreemdelingenrecht/
LOCATION:Online
CATEGORIES:Webinar
ATTACH;FMTTYPE=image/png:https://gams.be/wp-content/uploads/2025/03/2.png
END:VEVENT
BEGIN:VEVENT
DTSTART;TZID=Europe/Brussels:20251031T133000
DTEND;TZID=Europe/Brussels:20251031T163000
DTSTAMP:20260420T010333
CREATED:20250328T110546Z
LAST-MODIFIED:20250730T063657Z
UID:23225933-1761917400-1761928200@gams.be
SUMMARY:Gendergerelateerd geweld binnen het strafrecht\, jeugdrecht en familierecht
DESCRIPTION:GAMS België vzw organiseert een opleidingsreeks voor advocaten en juristen rond vrouwelijke genitale verminking en andere vormen van gendergerelateerd geweld. Deze opleiding wordt gratis en in webinar vorm aangeboden\, verdeeld over 3 delen. \n \n\n \n\nDeel 3: Gendergerelateerd geweld binnen het strafrecht\, jeugdrecht en familierecht\nGendergerelateerd geweld komt uiteraard niet enkel aan bod in vreemdelingenrechtprocedures. We zoomen tijdens dit laatste onderdeel in op waar men alert voor moet zijn bij risicosituaties en andere gerechtelijke procedures en hoe u uw cliënten\, soms afkomstig uit een land met een prevalentie van VGV\, het best kunnen bijstaan.  \n\n  \n  \n\n\nPraktische info\n\nDatum: vrijdag 31 oktober 2025\nWanneer: 13u30 – 16u30\nWaar: online\nInschrijving via dit formulier\nVoor meer informatie\, neem contact op met Jente: jente@gams.be\n\n\n\n\n			\n				Ik schrijf me in!
URL:https://gams.be/nl/evenement/gendergerelateerd-geweld-binnen-het-strafrecht-jeugdrecht-en-familierecht/
LOCATION:Online
CATEGORIES:Webinar
ATTACH;FMTTYPE=image/png:https://gams.be/wp-content/uploads/2025/03/3.png
END:VEVENT
END:VCALENDAR