BEGIN:VCALENDAR
VERSION:2.0
PRODID:-//GAMS.be - ECPv6.14.0//NONSGML v1.0//EN
CALSCALE:GREGORIAN
METHOD:PUBLISH
X-ORIGINAL-URL:https://gams.be
X-WR-CALDESC:Events voor GAMS.be
REFRESH-INTERVAL;VALUE=DURATION:PT1H
X-Robots-Tag:noindex
X-PUBLISHED-TTL:PT1H
BEGIN:VTIMEZONE
TZID:Europe/Brussels
BEGIN:DAYLIGHT
TZOFFSETFROM:+0100
TZOFFSETTO:+0200
TZNAME:CEST
DTSTART:20250330T010000
END:DAYLIGHT
BEGIN:STANDARD
TZOFFSETFROM:+0200
TZOFFSETTO:+0100
TZNAME:CET
DTSTART:20251026T010000
END:STANDARD
BEGIN:DAYLIGHT
TZOFFSETFROM:+0100
TZOFFSETTO:+0200
TZNAME:CEST
DTSTART:20260329T010000
END:DAYLIGHT
BEGIN:STANDARD
TZOFFSETFROM:+0200
TZOFFSETTO:+0100
TZNAME:CET
DTSTART:20261025T010000
END:STANDARD
END:VTIMEZONE
BEGIN:VEVENT
DTSTART;VALUE=DATE:20251129
DTEND;VALUE=DATE:20251130
DTSTAMP:20260420T024533
CREATED:20250919T091102Z
LAST-MODIFIED:20251201T140233Z
UID:23227177-1764374400-1764460799@gams.be
SUMMARY:Vorming vroedvrouwen 3/12 & 4/12
DESCRIPTION:Tweedaagse vorming voor referentievroedvrouwen (m/v/x): Aanpak en preventie van vrouwelijke genitale verminking (VGV)\nDoor middel van presentaties\, uitwisselingen en interventies van ervaringsdeskundigen (v)\, zullen volgende onderwerpen uitgediept worden: \n\nWat is VGV (socio-culturele context\, medische en psycho-seksuele gevolgen?\nWat zijn culturen en hoe kan je een cultuursensitieve aanpak creëren?\nHoe kan je de problematiek met de vrouwen en families bespreken?\nWat zegt de Belgische wetgeving over VGV?\nHoe kan ik in mijn ziekenhuis de aanpak van VGV verbeteren?\n\n  \nProgramma dag 1 – 3 december 2025\n\n9u: Onthaal\n9u15 – 9u30: Kennismaking en objectief van de vorming (Katrien De Koster\, coördinatrice Vlaanderen\, GAMS België)\n9u30 – 10u15: Wat is Vrouwelijke Genitale Verminking? Wat doet GAMS België? (Katrien De Koster\, coördinatrice Vlaanderen\, GAMS België vzw)\n10u15 – 10u45: Medische aspecten I: de impact van VGV op de gezondheid (Pauline Bekaert\, verpleegkundige GAMS België vzw)\n10u45 – 11u: Koffiepauze\n11u – 12u30: Medische aspecten I: de impact van VGV op de gezondheid (perinataal) (Pauline Bekaert\, verpleegkundige GAMS België vzw)\n12u30 –13u30: Lunchpauze\n13u30-14u30: Juridische aspecten (Jente Konings\, juriste GAMS België)\n14u30-16u: Medische aspecten II: protocol voor de perinatale periode (Lieselote Hoornaert\, referentievroedvrouw VGV)\n16u-16u15: Afsluiten\n\n  \nProgramma dag 2 – 4 december 2025\n\n9u30: Onthaal\n9u30 – 10u30: Psychologishe impact van VGV (Luna Doppée\, psycholoog GAMS België)\n10u30 – 11u30: Beweegredenen VGV (Mawda Abbas\, verantwoordelijke Community Voices Vlaanderen\, GAMS België en Fatma Abdullahi\, intercultureel medewerkster GAMS België vzw)\n11u30 – 11u45:   koffiepauze\n11u45 – 12u15: Vrijwilligerswerking GAMS België: de Community Voices (Mawda Abbas\, verantwoordelijke Community Voices Vlaanderen\, GAMS België)\n12u15 – 12u30: Werken als intercultureel medewerker bij GAMS België (Abdinasir Abdi\, intercultureel medewerker GAMS België)\n12u30 – 13u15: Lunchpauze \n13u15 – 14u30: Gesprekstechnieken: Hoe communiceren met families en vrouwen (Katrien De Koster\, coördinatrice Vlaanderen\, GAMS België)\n14u30 – 15u30: Casuïstiek (Katrien De Koster\, coördinatrice Vlaanderen\, GAMS België en Lieselote Hoornaert\, vroedvrouw GAMS België)\n15u30 –16u:  Brainstormsessie: referentievroedvrouw zijn in mijn ziekenhuis. Aanpak op mijn afdeling (Lieselote Hoornaert\, vroedvrouw GAMS België)\n16u – 16u15: Evaluatie\n\n  \nPraktische informatie\n\nWanneer? Woensdag 3 december (9u – 16u15) en donderdag 4 december (9u30 – 16u15)\nWaar? de Shelter\, Langstraat 102\, 2140 Borgerhout\, Shelterzaal\nGratis inschrijving via dit formulier\nVoor meer informatie\, neem contact op met katrien@gams.be\n\n\n\n			\n				Ik schrijf me in!
URL:https://gams.be/nl/evenement/vorming-vroedvrouwen-2025/
CATEGORIES:Vorming
ATTACH;FMTTYPE=image/png:https://gams.be/wp-content/uploads/2025/09/20251203_Vorming-vroudvrouwen.png
END:VEVENT
BEGIN:VEVENT
DTSTART;TZID=Europe/Brussels:20251202T100000
DTEND;TZID=Europe/Brussels:20251202T120000
DTSTAMP:20260420T024533
CREATED:20250910T091658Z
LAST-MODIFIED:20251013T152955Z
UID:23227042-1764669600-1764676800@gams.be
SUMMARY:VGV in een therapeutische context
DESCRIPTION:Webinar: Vrouwelijke genitale verminking (VGV) in een therapeutische context\nGAMS België nodigt je van harte uit voor een webinar over vrouwelijke genitale verminking (VGV) en hoe we deze doelgroep optimaal kunnen ondersteunen in een therapeutische context. De webinar vindt plaats op dinsdag 2 december van 10:00 tot 12:00. \n  \nInhoud\nTijdens deze webinar komen de volgende onderwerpen aan bod: \n\nBasiskennis over VGV en de impact ervan;\nHet ontkrachten van enkele mythes;\n\nHoe ga ik het gesprek over VGV aan?\n\n\nWerken met de unieke uitdagingen en kwaliteiten van deze doelgroep.\n\n\n \nPraktische informatie\n\nDinsdag 2 december 2025 van 10u tot 12u.\nInschrijven kan via dit formulier. Na inschrijving krijg je een week voor de webinar een zoom-link doorgestuurd.\nDeelname aan deze vorming is gratis.\nEr is een mogelijkheid om een vrije bijdrage te doen. Elke bijdrage wordt zeer gewaardeerd en stelt ons in staat om onze ondersteuning en projecten voort te zetten.\n\nVoel je vrij om deze uitnodiging binnen je netwerk te delen. We hopen je te mogen verwelkomen op deze inspirerende webinar en kijken ernaar uit om samen deze thematiek te verkennen. \n\n\n			\n				Ik schrijf me in!
URL:https://gams.be/nl/evenement/vgv-in-een-therapeutische-context/
LOCATION:Online (Zoom)
CATEGORIES:Evenement
ATTACH;FMTTYPE=image/png:https://gams.be/wp-content/uploads/2025/05/Visuel-webinaire-NL.png
END:VEVENT
BEGIN:VEVENT
DTSTART;TZID=Europe/Brussels:20251202T140000
DTEND;TZID=Europe/Brussels:20251202T153000
DTSTAMP:20260420T024533
CREATED:20250905T130953Z
LAST-MODIFIED:20250905T130958Z
UID:23226964-1764684000-1764689400@gams.be
SUMMARY:Webinar rond preventie VGV en huwelijksdwang
DESCRIPTION:Webinar rond preventie VGV en huwelijksdwang\nGAMS België organiseert een webinar rond preventie VGV en huwelijksdwang. \nHet webinar is voor iedereen die rechtstreeks werkt met de betrokken doelgroep. \nHet is gegeven door Jente Konings (juriste\, GAMS Be) en Mawda Abbas (verantwoordelijke Community Voices en preventie\, GAMS Be). \n  \nPraktische infos\n\nDatum: Dinsdag 2 december 2025\nTijd: 14u00 – 15u30\nOnline (Zoom)\nInschrijving verplicht via dit formulier\n\n\n\n			\n				Ik schrijf me in
URL:https://gams.be/nl/evenement/webinar-rond-preventie-vgv-en-huwelijksdwang-02-december/
LOCATION:Online (Zoom)
CATEGORIES:Vorming,Webinar
ATTACH;FMTTYPE=image/png:https://gams.be/wp-content/uploads/2025/05/Visuel-webinaire-NL.png
END:VEVENT
BEGIN:VEVENT
DTSTART;TZID=Europe/Brussels:20260205T100000
DTEND;TZID=Europe/Brussels:20260205T123000
DTSTAMP:20260420T024533
CREATED:20251219T093830Z
LAST-MODIFIED:20260202T134324Z
UID:23227790-1770285600-1770294600@gams.be
SUMMARY:5 februari - Symposium voor Werelddag van nultolerantie tegen vrouwelijke genitale verminking
DESCRIPTION:Symposium: Preventie van vrouwelijke genitale verminking in België\nMet participatie van Caroline Gennez\, Vlaams minister van Welzijn en Armoedebestrijding\, Cultuur en Gelijke Kansen\nIn het kader van de Werelddag van nultolerantie tegen vrouwelijke genitale verminking (VGV) brengt GAMS België beleidsmakers\, experten en getroffen personen samen. Tijdens een Symposium in het Vlaams Parlement bespreken we de uitdagingen\, beleidskansen en samenwerkingsnoden rond de preventie van VGV in Vlaanderen. \nNaast een bijzondere bijdrage van een collectief van vrouwen uit het participatief atelier van GAMS België\, hebben we het genoegen om Dr. A.S. Agboli\, PhD Uni Lu\, te verwelkomen als keynote spreker. \nGAMS België nodigt parlementsleden\, pers en publiek uit. \n\n\nProgramma\n10.00 uur — Ontvangst \n10.30 uur — Welkomstwoord \n10.45 uur — Presentatie ‘Bevindingen rondetafel en focusgroep huwelijksdwang en achterlating’Mawda Abbas en Jente Konings\, GAMS België vzw \n11.15 uur — Keynote ‘Identifying turning points in the change of attitudes towards the practice of female genital mutilation among migrant women in Belgium’Dr A.S. Agboli\, Phd Uni Lu \n12.15 uur — Boodschap ter preventie van VGVCollectief van vrouwen uit het participatief atelier van GAMS België vzw \n12.30 uur — Woord van de ministerCaroline Gennez\, Vlaams minister van Welzijn en Armoedebestrijding\, Cultuur en Gelijke Kansen \n\n\n  \nPraktische informatie\n\n\n\nWanneer? Donderdag 5 februari 2026\, van 10.00 uur tot 12.30 uur\nWaar? Antoon Van Dyckzaal – Vlaams Parlement\, Leuvenseweg 86\, 1000 Brussel\nGratis toegang na inschrijving (via onderstaand formulier)\n\n\n\n\n\n			\n				Ik schrijf me in
URL:https://gams.be/nl/evenement/5-februari-symposium-werelddag-nultolerantie-vgv/
CATEGORIES:Evenement
ATTACH;FMTTYPE=image/png:https://gams.be/wp-content/uploads/2025/12/5226_evenement.png
END:VEVENT
BEGIN:VEVENT
DTSTART;TZID=Europe/Brussels:20260507T093000
DTEND;TZID=Europe/Brussels:20260507T160000
DTSTAMP:20260420T024533
CREATED:20260402T092312Z
LAST-MODIFIED:20260402T114803Z
UID:23228536-1778146200-1778169600@gams.be
SUMMARY:KICK-OFF gezamenlijke aanpak tegen vrouwelijke genitale verminking
DESCRIPTION:Gezamenlijke aanpak tegen vrouwelijke genitale verminking\, huwelijksdwang en achterlating in Vlaanderen\nVGV\, huwelijksdwang en achterlating vragen een aanpak die even veelzijdig is als de uitdagingen zelf: een gezamenlijke aanpak die vertrekt vanuit de praktijk\, gedragen wordt door gemeenschappen en beleid en gericht is op concrete verandering. \n\n\nProgramma\n\n\n\n\n9u30-10u00 \n\n\nOnthaal \n\n\n\n\n10u00 – 10u15 \n\n\nIntroductie: gezamenlijke aanpak VGV\, huwelijksdwang\, achterlating \n\n\n\n\n10u15 – 10u35 \n\n\nTerminologie en eerste aanbevelingen vanuit focusgesprekken met professionals en ervaringsdeskundigen (GAMS) \n\n\n\n\n10u35-11u00 \n\n\nErvaringen en noden vanuit de aanpak van eergerelateerd geweld in Vlaanderen (Veilig Huis Limburg) \n\n\n\n\n11u00-11u15 \n\n\nPauze \n\n\n\n\n11u15-12u15 \n\n\nPanel gemodereerd door Phara De Aguirre (journaliste) \nWelke noden\, expertise en goede praktijken kennen we al rond VGV\, huwelijksdwang en achterlating? Wat kunnen we hieruit meenemen voor een gezamenlijke aanpak in Vlaanderen? \n\n\n\n\n12u15-12u30 \n\n\nDe Community Voices en Youth Activists van GAMS aan het woord \n\n\n\n\n12u30-13u15 \n\n\nBroodjeslunch \n\n\n\n\n13u15 – 14u15 \nEn \n14u30-15u30 \n\n\n\nWorkshops – in 2 rondes \n\n\nVan praktijk naar beleid: politiserend werken aan VGV\, huwelijksdwang en achterlating \n\n\nIn deze workshop gaan we op zoek naar wat politiserend werken betekent en hoe we het als een hefboom kunnen inzetten om tot een gezamenlijke aanpak te komen in Vlaanderen. \n\n\nThe Good Practice Walk: maak kennis met goede praktijken \n\n\nHoe kunnen we leren van elkaar over provincies heen\, hoe delen we het best tools\, kennis en goede praktijken? Hoe bespreken we gevoelige thema’s met verschillende gemeenschappen? Ga in gesprek met Sensoa\, het Landelijk Knooppunt Huwelijksdwang en Achterlating Nederland en het Europese ‘End FGM’ netwerk. \n\n\nDekoloniale aanpak van VGV\, huwelijksdwang en achterlating \n\n\nParticipatief en inclusief werken staat centraal. Maar hoe doen we dit? Wat leren we van dekolonialiteit en hoe kunnen we dit garanderen in een gezamenlijke aanpak? \n\n\n\n\n15u30-16u00 \n\n\nWat nu: een laatste warme oproep en de volgende stappen \n\n\n\n\n\n\n  \nPraktische informatie\n\n\n\n\nWanneer? 7 mei van 9u30 tot 16u\n\n\nWaar? Pianofabriek\, Fortstraat 35 – 1060 Sint-Gillis\n\nPrijs? gratis\n\n\n\n\n\n			\n				Ik schrijf me in
URL:https://gams.be/nl/evenement/kick-off-gezamenlijke-aanpak-tegen-vrouwelijke-genitale-verminking/
LOCATION:Pianofabriek\, Rue du Fort 35\, 1060 Saint-Gilles\, Bruxelles\, Bruxelles\, 1060\, Belgium
CATEGORIES:Evenement
ATTACH;FMTTYPE=image/png:https://gams.be/wp-content/uploads/2026/04/GGG-Flyer-13-scaled.png
END:VEVENT
BEGIN:VEVENT
DTSTART;TZID=Europe/Brussels:20260604T100000
DTEND;TZID=Europe/Brussels:20260604T120000
DTSTAMP:20260420T024533
CREATED:20260407T100944Z
LAST-MODIFIED:20260407T101048Z
UID:23228563-1780567200-1780574400@gams.be
SUMMARY:Webinar voor artsen: Opstellen attest Vrouwelijke Genitale Verminking
DESCRIPTION:Webinar voor artsen – Opstellen attest Vrouwelijke Genitale Verminking\nProgramma\nTijdens deze webinar zal Dr Vercoutere uitleg geven bij het opstellen van een attest VGV; types VGV\, aandachtspunten\, complicaties en behandelingen komen aan bod. Verder zal een medewerkster van GAMS vzw duiding geven bij de socio-culturele context van deze problematiek. \nIntervenant·es\n\nDr Anneke Vercoutere – Referentie gynaecologe VGV\nKatrien De Koster – Coordinatrice activiteiten in Vlaanderen (GAMS België)\n\n  \nPraktische informatie\n\nDatum: Donderdag 04 juni 2026\nUur: 10h00 – 12h00\nOnline\, via Zoom\nInschrijving verplicht via dit formulier\n\n\n\n			\n				Ik schrijf me in
URL:https://gams.be/nl/evenement/23228563/
LOCATION:Sur Zoom !\, Belgium
CATEGORIES:Webinar
ATTACH;FMTTYPE=image/jpeg:https://gams.be/wp-content/uploads/2026/04/Agenda.jpg
END:VEVENT
BEGIN:VEVENT
DTSTART;TZID=Europe/Brussels:20260627T093000
DTEND;TZID=Europe/Brussels:20260627T220000
DTSTAMP:20260420T024533
CREATED:20260218T101048Z
LAST-MODIFIED:20260218T101048Z
UID:23228323-1782552600-1782597600@gams.be
SUMMARY:30 jaar GAMS
DESCRIPTION:Op 27 juni nodigen wij u uit om een bijzondere mijlpaal te vieren: 30 jaar engagement van GAMS België aan de zijde van meisjes en vrouwen die getroffen zijn door vrouwelijke genitale verminking. Deze 30 jaar staan voor gezamenlijke strijd\, overwonnen uitdagingen\, belangrijke vooruitgang in zorg en preventie\, maar ook voor een vernieuwde visie voor de komende jaren. Deze dag biedt de gelegenheid om terug te blikken op het afgelegde parcours\, ons nieuwe strategisch plan te delen en vooral samen vooruit te kijken naar de toekomst. \nProgramma: \n\n9u–9u30: Onthaal en ontbijt\n• 9u30–12u: Panelgesprekken met een terugblik\, onze evolutie en het nieuwe strategisch plan voor de komende jaren\n• 12u–14u: Middagpauze – eetstanden\n• 14u–17u30: Workshops (filmvertoningen\, debatten\, fishbowl-gesprekken\, artistieke ateliers)\n• 18u–22u: Muzikale avond\n\nDeze dag is gratis en voor iedereen toegankelijk. \nLocatie: LaVallée\, Adolphe LaValléestraat 39 – 1080 Brussel \nSchrijf u hier in.
URL:https://gams.be/nl/evenement/30-jaar-gams/
CATEGORIES:Evenement
ATTACH;FMTTYPE=image/png:https://gams.be/wp-content/uploads/2026/02/banner-30-ans-scaled.png
END:VEVENT
BEGIN:VEVENT
DTSTART;TZID=Europe/Brussels:20260925T120000
DTEND;TZID=Europe/Brussels:20260925T140000
DTSTAMP:20260420T024533
CREATED:20260407T120600Z
LAST-MODIFIED:20260407T120735Z
UID:23228572-1790337600-1790344800@gams.be
SUMMARY:Webinar voor artsen: Opstellen attest Vrouwelijke Genitale Verminking
DESCRIPTION:Webinar voor artsen – Opstellen attest Vrouwelijke Genitale Verminking\nProgramma\nTijdens deze webinar zal Dr Vercoutere uitleg geven bij het opstellen van een attest VGV; types VGV\, aandachtspunten\, complicaties en behandelingen komen aan bod. Verder zal een medewerkster van GAMS vzw duiding geven bij de socio-culturele context van deze problematiek. \nIntervenant·es\n\nDr Anneke Vercoutere – Referentie gynaecologe VGV\nKatrien De Koster – Coordinatrice activiteiten in Vlaanderen (GAMS België)\n\n  \nPraktische informatie\n\nDatum: Vrijdag 25 september 2026\nUur: 12h00 – 14h00\nOnline\, via Zoom\nInschrijving verplicht via dit formulier\n\n\n\n			\n				Ik schrijf me in
URL:https://gams.be/nl/evenement/23228572/
LOCATION:Sur Zoom !\, Belgium
CATEGORIES:Webinar
ATTACH;FMTTYPE=image/jpeg:https://gams.be/wp-content/uploads/2026/04/Agenda.jpg
END:VEVENT
END:VCALENDAR