BEGIN:VCALENDAR
VERSION:2.0
PRODID:-//GAMS.be - ECPv6.14.0//NONSGML v1.0//EN
CALSCALE:GREGORIAN
METHOD:PUBLISH
X-WR-CALNAME:GAMS.be
X-ORIGINAL-URL:https://gams.be
X-WR-CALDESC:Events voor GAMS.be
REFRESH-INTERVAL;VALUE=DURATION:PT1H
X-Robots-Tag:noindex
X-PUBLISHED-TTL:PT1H
BEGIN:VTIMEZONE
TZID:Europe/Brussels
BEGIN:DAYLIGHT
TZOFFSETFROM:+0100
TZOFFSETTO:+0200
TZNAME:CEST
DTSTART:20250330T010000
END:DAYLIGHT
BEGIN:STANDARD
TZOFFSETFROM:+0200
TZOFFSETTO:+0100
TZNAME:CET
DTSTART:20251026T010000
END:STANDARD
END:VTIMEZONE
BEGIN:VEVENT
DTSTART;TZID=Europe/Brussels:20250311T123000
DTEND;TZID=Europe/Brussels:20250311T133000
DTSTAMP:20260423T111902
CREATED:20250226T104313Z
LAST-MODIFIED:20250226T113037Z
UID:23225595-1741696200-1741699800@gams.be
SUMMARY:Webinar (Engels) - End FGM e-Campus
DESCRIPTION:Wil je meer leren over Vrouwelijke Genitale Verminking (VGV) of je vaardigheden over het onderwerp updaten? Kom dan op dinsdag 11 maart van 12.30 tot 13.30 uur naar onze exclusieve webinar in het Engels over het End FGM e-Campus platform en de gecertificeerde training! \n \nOp de agenda:\n\nPresentatie van het e-Campus platform\nDemonstratie van de 5 modules:\n\nIntroduction to FGM\nProtection and Legal Framework\nHealth and Care\nPrevention and Awareness-raising\nCommunity Engagement\n\n\nAntwoorden op al je vragen\n\nDeze gecertificeerde training is een unieke kans om je kennis te verdiepen en je toe te rusten om effectiever op te treden in het veld \n  \nPraktische info\n\nDatum: 11 maart 2025\nTijd: 12.30 – 13.30 uur\nFormaat: Online workshop (de link wordt na registratie verzonden)\nTaal: Engels\nRegistratie vereist via dit formulier\n\n\n\n			\n				Ik wil me registreren
URL:https://gams.be/nl/evenement/webinar-end-fgm-e-campus-en/
LOCATION:Online (Zoom)
CATEGORIES:Webinar
ATTACH;FMTTYPE=image/png:https://gams.be/wp-content/uploads/2025/02/Design-sans-titre.png
END:VEVENT
BEGIN:VEVENT
DTSTART;TZID=Europe/Brussels:20250209T103000
DTEND;TZID=Europe/Brussels:20250209T130000
DTSTAMP:20260423T111902
CREATED:20250121T092356Z
LAST-MODIFIED:20250121T134856Z
UID:23225230-1739097000-1739106000@gams.be
SUMMARY:Antwerpen - Filmevent "Koromousso - Big Sister"
DESCRIPTION:Ter gelegenheid van de Internationale Dag van Nultolerantie tegen Vrouwelijke Genitale Verminking (VGV) nodigen we u uit voor een bijzondere filmvertoning en debat rond de documentaire “Koromousso – Grande Sœur”\, in aanwezigheid van regisseuse Habibata Ouarmé\, in Antwerpen. \nSluit u bij ons aan voor deze avond van uitwisseling en bewustwording over een cruciaal onderwerp. We nodigen u van harte uit deel te nemen aan deze ochtend van uitwisseling en bewustwording rond deze vorm van gendergerelateerd geweld. \n  \nProgramma\n\n10u30: Onthaal\n11u00: Filmvertoning (in FR met EN ondertitelling)\n12u15: Debat (simultane vertaling EN-FR-NL)\n13u00: Einde van het evenement\n\n  \nPraktische info\n\nWanneer: Zondag 9 februari 2025\, 10u30-13u\nWaar: Shelterzaal\, Langstraat 102 – 2140 Borgerhout\nVerplichte registratie via het formulier\n\n\n\n			\n				inschrijving
URL:https://gams.be/nl/evenement/antwerpen-filmevent-koromousso-big-sister/
CATEGORIES:Evenement,Filmvertoning
ATTACH;FMTTYPE=image/png:https://gams.be/wp-content/uploads/2025/01/Cine-deb-1-1.png
END:VEVENT
BEGIN:VEVENT
DTSTART;TZID=Europe/Brussels:20250205T180000
DTEND;TZID=Europe/Brussels:20250205T210000
DTSTAMP:20260423T111902
CREATED:20250113T084215Z
LAST-MODIFIED:20250113T084219Z
UID:23225068-1738778400-1738789200@gams.be
SUMMARY:Filmevent "A Girl From Mogadishu"
DESCRIPTION:Op 6 februari is het Internationale Dag voor Nultolerantie ten opzichte van Vrouwelijke Genitale Verminking (VGV). Het doel van deze dag is bij te dragen aan de uitbanning van vrouwenbesnijdenis in al haar vormen en in alle landen. \n\n\n\nTer gelegenheid van deze dag organiseert partnerorganisatie GAMS op 5 februari in samenwerking met GemmA een filmvertoning van A Girl from Mogadishu\, gevolgd door een nabespreking. Iedereen is van harte welkom om deel te nemen. \n  \n\nPraktische info\n\nWanneer? 5 februari 2025\, 18u-21u\nVoor wie? Iedereen is welkom!\nWaar? GemmA\, Wijkcentrum De Shelter – Langstraat 102\, 2140 Antwerpen\nPrijs? Gratis (op vrije bijdrage voor een vegetarische maaltijd)\nInschrijving via deze formulier\n\n\n\n			\n				Ik schrijf me in
URL:https://gams.be/nl/evenement/filmevent-a-girl-from-mogadishu/
LOCATION:De Shelter\, Langstraat 102\, 2140 Borgerhout\, Langstraat 102\, Borgerhout\, 2140\, Belgium
ATTACH;FMTTYPE=image/png:https://gams.be/wp-content/uploads/2025/01/20250607_GAMS_6Fev_VISU_SW_CineDebatAntwerpen.png
END:VEVENT
BEGIN:VEVENT
DTSTART;TZID=Europe/Brussels:20250205T120000
DTEND;TZID=Europe/Brussels:20250205T140000
DTSTAMP:20260423T111902
CREATED:20250114T102932Z
LAST-MODIFIED:20250115T091736Z
UID:23225184-1738756800-1738764000@gams.be
SUMMARY:5 februari - Senaat
DESCRIPTION:In België wonen meer dan 35.000 meisjes en vrouwen die reeds geconfronteerd werden met of een risico lopen op vrouwelijke genitale verminking (VGV). Hoewel België vaak als voorbeeld wordt genoemd vanwege bepaalde inspanningen (prevalentiestudie\, multidisciplinaire aanpak\, opleidingen\, ziekenhuisprotocollen)\, blijven er grote uitdagingen bestaan. Vooral het beter informeren van gezinnen die via gezinshereniging zijn gekomen\, en het versterken van preventie en begeleiding in Vlaanderen – een regio met beperkte middelen voor de problematiek – vragen om aandacht. \n  \nProgramma\n12u00: Onthaal en broodjes12u30: Welkomstwoord – Diariou Sow (Voorzitster\, GAMS België)12u40: Belgische context – Fabienne Richard (Directrice\, GAMS België) & Katrien De Koster (Coördinatrice activiteiten Vlaanderen\, GAMS België)12u55: Gemeenschapsgerichte aanpak; werken met community voices – Mawda Abbas (Verantwoordelijke Community Voices Vlaanderen\, GAMS België)13u00: Evaluatie van de sociale impact van GAMS België (ESSEC)13u15: Voorstelling van de E-Learning VGV (Marianne Nguena\, Europees netwerk End FGM)13u30: Vraag- en antwoordsessie (tweetalige moderatie) \nDit evenement zal de vooruitgang in België belichten en de prioriteiten bespreken voor een toekomst zonder VGV. \n  \nPraktische info\n\nWanneer? Woensdag 5 februari 2025\, 12u-14u\nWaar? Senaat\, zaal K – Leuvenseweg 7\, 1000 Brussel\nEvenement in het Frans en Nederlands\nInschrijving verplicht via dit formulier\n\n\n\n			\n				INSCHRIJVEN
URL:https://gams.be/nl/evenement/5-februari-federaal-parlement/
LOCATION:Senaat\, zaal K\, Leuvenseweg 7\, Brussel\, 1000
CATEGORIES:Evenement
ATTACH;FMTTYPE=image/png:https://gams.be/wp-content/uploads/2025/01/Cine-deb-3.png
END:VEVENT
END:VCALENDAR