BEGIN:VCALENDAR
VERSION:2.0
PRODID:-//GAMS.be - ECPv6.14.0//NONSGML v1.0//EN
CALSCALE:GREGORIAN
METHOD:PUBLISH
X-ORIGINAL-URL:https://gams.be
X-WR-CALDESC:Events voor GAMS.be
REFRESH-INTERVAL;VALUE=DURATION:PT1H
X-Robots-Tag:noindex
X-PUBLISHED-TTL:PT1H
BEGIN:VTIMEZONE
TZID:Europe/Brussels
BEGIN:DAYLIGHT
TZOFFSETFROM:+0100
TZOFFSETTO:+0200
TZNAME:CEST
DTSTART:20250330T010000
END:DAYLIGHT
BEGIN:STANDARD
TZOFFSETFROM:+0200
TZOFFSETTO:+0100
TZNAME:CET
DTSTART:20251026T010000
END:STANDARD
END:VTIMEZONE
BEGIN:VEVENT
DTSTART;TZID=Europe/Brussels:20250521T180000
DTEND;TZID=Europe/Brussels:20250521T210000
DTSTAMP:20260422T181602
CREATED:20250514T073546Z
LAST-MODIFIED:20250514T133304Z
UID:23226190-1747850400-1747861200@gams.be
SUMMARY:Conferentie: Beschermende Ouders
DESCRIPTION: \nGAMS België nodigt u uit om de sensibiliseringscampagne “Beschermende Ouders: Vrouwenbesnijdenis stopt bij mij” te ontdekken en om deel te nemen aan een moment van uitwisseling in het Brussels Parlement.\n \n\nProgramma\n\n17u30: Onthaal en veiligheidscontrole\n18u00: Begin van het evenement\n\n\nVertoning van de video’s van de campagne “Beschermende Ouders”\nGetuigenissen van professionals en Beschermende Ouders\n\n20u00: Receptie\n\n\n\nPraktische informatie\n\nDatum: woensdag 21 mei 2025\nTijd: 18 uur\, onthaal vanaf 17.30 uur\nLocatie: Brussels Parlement (Lombardstraat 69\, 1000 Brussel)\nInschrijving via dit formulier\n\n\n\n			\n				Ik schrijf me in!
URL:https://gams.be/nl/evenement/conferentie-beschermende-ouders/
CATEGORIES:Evenement
ATTACH;FMTTYPE=image/png:https://gams.be/wp-content/uploads/2025/05/20250521_Parlement-bruxellois1.png
END:VEVENT
END:VCALENDAR