BEGIN:VCALENDAR
VERSION:2.0
PRODID:-//GAMS.be - ECPv6.14.0//NONSGML v1.0//EN
CALSCALE:GREGORIAN
METHOD:PUBLISH
X-ORIGINAL-URL:https://gams.be
X-WR-CALDESC:Events voor GAMS.be
REFRESH-INTERVAL;VALUE=DURATION:PT1H
X-Robots-Tag:noindex
X-PUBLISHED-TTL:PT1H
BEGIN:VTIMEZONE
TZID:Europe/Brussels
BEGIN:DAYLIGHT
TZOFFSETFROM:+0100
TZOFFSETTO:+0200
TZNAME:CEST
DTSTART:20250330T010000
END:DAYLIGHT
BEGIN:STANDARD
TZOFFSETFROM:+0200
TZOFFSETTO:+0100
TZNAME:CET
DTSTART:20251026T010000
END:STANDARD
END:VTIMEZONE
BEGIN:VEVENT
DTSTART;TZID=Europe/Brussels:20250517T093000
DTEND;TZID=Europe/Brussels:20250517T113000
DTSTAMP:20260423T022422
CREATED:20250430T121445Z
LAST-MODIFIED:20250430T121450Z
UID:23226080-1747474200-1747481400@gams.be
SUMMARY:Lancering pre-vakantiecampagne 2025
DESCRIPTION: \nGAMS België nodigt u graag uit voor de lancering van de jaarlijkse pre-vakantie sensibiliseringscampagne op zaterdag 17 mei van 10u tot 11u30 in het Cinéma Palace. U wordt verwelkomd vanaf 9u30. Dit jaar ligt de focus op beschermende ouders.\nOp het programma: presentatie van de campagne en toespraken.\n\n\n\nPraktische info\n\nDatum: zaterdag 17 mei 2025\nTijd: 9u30-11u30\nPlaats: Cinéma Palace (Anspachlaan 85\, 1000 Brussel)\nInschrijving via dit formulier\n\n\n\n			\n				Ik schrijf me in!
URL:https://gams.be/nl/evenement/lancering-pre-vakantiecampagne-2025/
LOCATION:Cinéma Palace\, Boulevard Anspach 85\, Bruxelles\, 1000
CATEGORIES:Evenement
ATTACH;FMTTYPE=image/png:https://gams.be/wp-content/uploads/2025/04/20250430_Newsletter6.png
END:VEVENT
END:VCALENDAR