BEGIN:VCALENDAR
VERSION:2.0
PRODID:-//GAMS.be - ECPv6.14.0//NONSGML v1.0//EN
CALSCALE:GREGORIAN
METHOD:PUBLISH
X-WR-CALNAME:GAMS.be
X-ORIGINAL-URL:https://gams.be
X-WR-CALDESC:Events voor GAMS.be
REFRESH-INTERVAL;VALUE=DURATION:PT1H
X-Robots-Tag:noindex
X-PUBLISHED-TTL:PT1H
BEGIN:VTIMEZONE
TZID:Europe/Brussels
BEGIN:DAYLIGHT
TZOFFSETFROM:+0100
TZOFFSETTO:+0200
TZNAME:CEST
DTSTART:20250330T010000
END:DAYLIGHT
BEGIN:STANDARD
TZOFFSETFROM:+0200
TZOFFSETTO:+0100
TZNAME:CET
DTSTART:20251026T010000
END:STANDARD
END:VTIMEZONE
BEGIN:VEVENT
DTSTART;TZID=Europe/Brussels:20250624T120000
DTEND;TZID=Europe/Brussels:20250624T133000
DTSTAMP:20260420T001402
CREATED:20250530T085739Z
LAST-MODIFIED:20250530T090732Z
UID:23226319-1750766400-1750771800@gams.be
SUMMARY:Webinar rond preventie VGV en huwelijksdwang
DESCRIPTION:GAMS België vzw organiseert een webinar rond preventie VGV en huwelijksdwang voor iedereen die rechtstreeks werkt met de betrokken doelgroep. \nDe webinar is gegeven door: \n\nJente Konings (Juriste)\nMawda Abbas (Verantwoordelijke Community Voices en preventie)\n\n\n  \n\n\nPraktische info\n\nDatum: dinsdag 24 juni 2025\nWanneer: 12u – 13u30\nWaar: online\nInschrijving via dit formulier\n\n\n\n\n\n\n\n\n			\n				Ik schrijf me in!
URL:https://gams.be/nl/evenement/webinar-rond-preventie-vgv-en-huwelijksdwang-24-juni/
LOCATION:Online (Zoom)
CATEGORIES:Webinar
ATTACH;FMTTYPE=image/png:https://gams.be/wp-content/uploads/2025/05/Visuel-webinaire-NL.png
END:VEVENT
END:VCALENDAR