BEGIN:VCALENDAR
VERSION:2.0
PRODID:-//GAMS.be - ECPv6.14.0//NONSGML v1.0//EN
CALSCALE:GREGORIAN
METHOD:PUBLISH
X-WR-CALNAME:GAMS.be
X-ORIGINAL-URL:https://gams.be
X-WR-CALDESC:Events voor GAMS.be
REFRESH-INTERVAL;VALUE=DURATION:PT1H
X-Robots-Tag:noindex
X-PUBLISHED-TTL:PT1H
BEGIN:VTIMEZONE
TZID:Europe/Brussels
BEGIN:DAYLIGHT
TZOFFSETFROM:+0100
TZOFFSETTO:+0200
TZNAME:CEST
DTSTART:20250330T010000
END:DAYLIGHT
BEGIN:STANDARD
TZOFFSETFROM:+0200
TZOFFSETTO:+0100
TZNAME:CET
DTSTART:20251026T010000
END:STANDARD
END:VTIMEZONE
BEGIN:VEVENT
DTSTART;TZID=Europe/Brussels:20250710T130000
DTEND;TZID=Europe/Brussels:20250710T160000
DTSTAMP:20260419T224248
CREATED:20250701T083712Z
LAST-MODIFIED:20250701T084224Z
UID:23226473-1752152400-1752163200@gams.be
SUMMARY:Sessie 2 voor moeders - Info over de menstruatiecyclus
DESCRIPTION:Ben je een mama die geconfronteerd werd met besnijdenis en heb je een dochter(s)? \nWil je beter begrip krijgen van je menstruatie\, hoe je goed voor jezelf en je dochter(s) kunt zorgen tijdens deze periode\, en hoe je de juiste kennis en vaardigheden kunt opdoen om hen te ondersteunen? Kom dan naar onze sessies over menstruatiewelzijn! \n  \nProgramma voor deze sessie\n\nbasiskennis over het reproductieve\, niet met VGV geconfronteerde lichaam\nhormonale cyclus\, menarche\, menstruatie\nmenstruatieproducten\n\n  \nWij bieden aan\n\neen fijn en leerrijk moment tussen mama’s om ervaringen uit te wisselen\nopvang en animatie voor jullie kindjes\nsnack\n\n\n\n\n\nPraktische info\n\nDatum: donderdag 10 juli 2025\nWanneer: 13u – 16u\nWaar: Huis van het Kind Kortrijk (Dam 8a\, 8500 Kortrijk)\nGratis en iedereen welkom!\n\n\n\n\n\n\n\n\n			\n				Meer info
URL:https://gams.be/nl/evenement/sessie-2-voor-moeders-info-over-de-menstruatiecyclus/
LOCATION:Huis van het Kind Kortijk\, Dam 8a\, Kortrijk\, 8500
CATEGORIES:Evenement
ATTACH;FMTTYPE=image/png:https://gams.be/wp-content/uploads/2025/07/20250701_Agenda_CIClus_NL.png
END:VEVENT
END:VCALENDAR