BEGIN:VCALENDAR
VERSION:2.0
PRODID:-//GAMS.be - ECPv6.14.0//NONSGML v1.0//EN
CALSCALE:GREGORIAN
METHOD:PUBLISH
X-WR-CALNAME:GAMS.be
X-ORIGINAL-URL:https://gams.be
X-WR-CALDESC:Events voor GAMS.be
REFRESH-INTERVAL;VALUE=DURATION:PT1H
X-Robots-Tag:noindex
X-PUBLISHED-TTL:PT1H
BEGIN:VTIMEZONE
TZID:Europe/Brussels
BEGIN:DAYLIGHT
TZOFFSETFROM:+0100
TZOFFSETTO:+0200
TZNAME:CEST
DTSTART:20250330T010000
END:DAYLIGHT
BEGIN:STANDARD
TZOFFSETFROM:+0200
TZOFFSETTO:+0100
TZNAME:CET
DTSTART:20251026T010000
END:STANDARD
END:VTIMEZONE
BEGIN:VEVENT
DTSTART;TZID=Europe/Brussels:20250711T180000
DTEND;TZID=Europe/Brussels:20250711T200000
DTSTAMP:20260420T034158
CREATED:20250701T093538Z
LAST-MODIFIED:20250701T093542Z
UID:23226503-1752256800-1752264000@gams.be
SUMMARY:Focusgroep jongeren
DESCRIPTION:Groepsgesprek over menstruatiewelzijn en de band tussen moeder en dochter.\n\n\n\n \nPraktische info\n\nDatum: vrijdag 11 juli 2025\nWanneer: 18u-20u\nWaar: GAMS Brussel (Gabrielle Petitstraat 6\, 1080 Molenbeek)\nMeer info en contact: pauline.bekaert@gams.be\n\n\n\n\n\n\n\n\n			\n				Meer info
URL:https://gams.be/nl/evenement/focusgroep-menstruatiewelzijn/
LOCATION:GAMS Brussel\, Gabrielle Petitstraat 6\, Molenbeek\, 1080\, Belgium
CATEGORIES:Evenement
ATTACH;FMTTYPE=image/png:https://gams.be/wp-content/uploads/2025/07/20250701_Agenda_CIClus_NL.png
END:VEVENT
END:VCALENDAR