BEGIN:VCALENDAR
VERSION:2.0
PRODID:-//GAMS.be - ECPv6.14.0//NONSGML v1.0//EN
CALSCALE:GREGORIAN
METHOD:PUBLISH
X-WR-CALNAME:GAMS.be
X-ORIGINAL-URL:https://gams.be
X-WR-CALDESC:Events voor GAMS.be
REFRESH-INTERVAL;VALUE=DURATION:PT1H
X-Robots-Tag:noindex
X-PUBLISHED-TTL:PT1H
BEGIN:VTIMEZONE
TZID:Europe/Brussels
BEGIN:DAYLIGHT
TZOFFSETFROM:+0100
TZOFFSETTO:+0200
TZNAME:CEST
DTSTART:20250330T010000
END:DAYLIGHT
BEGIN:STANDARD
TZOFFSETFROM:+0200
TZOFFSETTO:+0100
TZNAME:CET
DTSTART:20251026T010000
END:STANDARD
END:VTIMEZONE
BEGIN:VEVENT
DTSTART;TZID=Europe/Brussels:20250617T100000
DTEND;TZID=Europe/Brussels:20250617T140000
DTSTAMP:20260421T114707
CREATED:20250616T065734Z
LAST-MODIFIED:20250616T065740Z
UID:23226389-1750154400-1750168800@gams.be
SUMMARY:Expo doors beschermende ouders
DESCRIPTION:Kom een unieke expo ontdekkenen en beleef een gezellig moment met ons! \n\nGeniet van huisgemaakte koekjes\nBeleef een traditionele koffieceremonie\nErvaar de kunst van traditionele henna\nOntdek prachtige Afrikaanse kunst\n\n  \nKom langs\, leer bij en proef mee! \n  \n\n\n\n\nPraktische info\n\nDatum: dinsdag 17 juni 2025\nWanneer: 10u – 14u\nWaar: De Shelter (Langstraat 102\, 2140 Antwerpen)\nGratis en iedereen welkom!\n\n\n\n\n\n\n\n\n			\n				Meer info
URL:https://gams.be/nl/evenement/expo-beschermende-ouders/
LOCATION:De Shelter\, Langstraat 102\, Antwerpen\, 2140\, Belgium
CATEGORIES:Evenement
ATTACH;FMTTYPE=image/png:https://gams.be/wp-content/uploads/2025/06/20250318_MGF-asile-webinaires.png
END:VEVENT
END:VCALENDAR