BEGIN:VCALENDAR
VERSION:2.0
PRODID:-//GAMS.be - ECPv6.14.0//NONSGML v1.0//EN
CALSCALE:GREGORIAN
METHOD:PUBLISH
X-WR-CALNAME:GAMS.be
X-ORIGINAL-URL:https://gams.be
X-WR-CALDESC:Events voor GAMS.be
REFRESH-INTERVAL;VALUE=DURATION:PT1H
X-Robots-Tag:noindex
X-PUBLISHED-TTL:PT1H
BEGIN:VTIMEZONE
TZID:Europe/Brussels
BEGIN:DAYLIGHT
TZOFFSETFROM:+0100
TZOFFSETTO:+0200
TZNAME:CEST
DTSTART:20250330T010000
END:DAYLIGHT
BEGIN:STANDARD
TZOFFSETFROM:+0200
TZOFFSETTO:+0100
TZNAME:CET
DTSTART:20251026T010000
END:STANDARD
END:VTIMEZONE
BEGIN:VEVENT
DTSTART;TZID=Europe/Brussels:20250209T103000
DTEND;TZID=Europe/Brussels:20250209T130000
DTSTAMP:20260419T204515
CREATED:20250121T092356Z
LAST-MODIFIED:20250121T134856Z
UID:23225230-1739097000-1739106000@gams.be
SUMMARY:Antwerpen - Filmevent "Koromousso - Big Sister"
DESCRIPTION:Ter gelegenheid van de Internationale Dag van Nultolerantie tegen Vrouwelijke Genitale Verminking (VGV) nodigen we u uit voor een bijzondere filmvertoning en debat rond de documentaire “Koromousso – Grande Sœur”\, in aanwezigheid van regisseuse Habibata Ouarmé\, in Antwerpen. \nSluit u bij ons aan voor deze avond van uitwisseling en bewustwording over een cruciaal onderwerp. We nodigen u van harte uit deel te nemen aan deze ochtend van uitwisseling en bewustwording rond deze vorm van gendergerelateerd geweld. \n  \nProgramma\n\n10u30: Onthaal\n11u00: Filmvertoning (in FR met EN ondertitelling)\n12u15: Debat (simultane vertaling EN-FR-NL)\n13u00: Einde van het evenement\n\n  \nPraktische info\n\nWanneer: Zondag 9 februari 2025\, 10u30-13u\nWaar: Shelterzaal\, Langstraat 102 – 2140 Borgerhout\nVerplichte registratie via het formulier\n\n\n\n			\n				inschrijving
URL:https://gams.be/nl/evenement/antwerpen-filmevent-koromousso-big-sister/
CATEGORIES:Evenement,Filmvertoning
ATTACH;FMTTYPE=image/png:https://gams.be/wp-content/uploads/2025/01/Cine-deb-1-1.png
END:VEVENT
END:VCALENDAR