BEGIN:VCALENDAR
VERSION:2.0
PRODID:-//GAMS.be - ECPv6.14.0//NONSGML v1.0//EN
CALSCALE:GREGORIAN
METHOD:PUBLISH
X-WR-CALNAME:GAMS.be
X-ORIGINAL-URL:https://gams.be
X-WR-CALDESC:Events voor GAMS.be
REFRESH-INTERVAL;VALUE=DURATION:PT1H
X-Robots-Tag:noindex
X-PUBLISHED-TTL:PT1H
BEGIN:VTIMEZONE
TZID:Europe/Brussels
BEGIN:DAYLIGHT
TZOFFSETFROM:+0100
TZOFFSETTO:+0200
TZNAME:CEST
DTSTART:20250330T010000
END:DAYLIGHT
BEGIN:STANDARD
TZOFFSETFROM:+0200
TZOFFSETTO:+0100
TZNAME:CET
DTSTART:20251026T010000
END:STANDARD
END:VTIMEZONE
BEGIN:VEVENT
DTSTART;TZID=Europe/Brussels:20250621T110000
DTEND;TZID=Europe/Brussels:20250621T170000
DTSTAMP:20260419T204613
CREATED:20250507T080409Z
LAST-MODIFIED:20250507T080517Z
UID:23226135-1750503600-1750525200@gams.be
SUMMARY:Algemene Vergadering van GAMS België
DESCRIPTION:GAMS België nodigt u uit op 21 juni voor zijn Algemene Vergadering!\n \n\nProgramma :11u: welkom en brunch13u: start van de vergadering17u: einde van de vergadering \n  \nTer informatie: voor 25 EUR/jaar kunt u lid worden en stemmen! \nGAMS IBAN: BE37 0012 8683 3928 \nCommunicatie: Cotisatie 2025 \n\n\n \n\n\n\nPraktische informatie\n\nDatum: zaterdag 21 juni 2025\nTijd: 13u-17u\, welkom en brunch vanaf 11u\nPlaats: Amazone asbl\, zaal Marie Popelin (Middaglijnstraat 10\, 1210 Brussel)\nInschrijving via dit formulier\n\n\n\n\n			\n				Ik schrijf me in!
URL:https://gams.be/nl/evenement/algemene-vergadering-gams-belgie-2025/
LOCATION:Amazone asbl\, Rue du Méridien 10\, Bruxelles\, Bruxelles\, 1210\, Belgium
CATEGORIES:Evenement
ATTACH;FMTTYPE=image/png:https://gams.be/wp-content/uploads/2025/05/NL.png
END:VEVENT
END:VCALENDAR