BEGIN:VCALENDAR
VERSION:2.0
PRODID:-//GAMS.be - ECPv6.14.0//NONSGML v1.0//EN
CALSCALE:GREGORIAN
METHOD:PUBLISH
X-WR-CALNAME:GAMS.be
X-ORIGINAL-URL:https://gams.be
X-WR-CALDESC:Events for GAMS.be
REFRESH-INTERVAL;VALUE=DURATION:PT1H
X-Robots-Tag:noindex
X-PUBLISHED-TTL:PT1H
BEGIN:VTIMEZONE
TZID:Europe/Brussels
BEGIN:DAYLIGHT
TZOFFSETFROM:+0100
TZOFFSETTO:+0200
TZNAME:CEST
DTSTART:20250330T010000
END:DAYLIGHT
BEGIN:STANDARD
TZOFFSETFROM:+0200
TZOFFSETTO:+0100
TZNAME:CET
DTSTART:20251026T010000
END:STANDARD
END:VTIMEZONE
BEGIN:VEVENT
DTSTART;TZID=Europe/Brussels:20251007T120000
DTEND;TZID=Europe/Brussels:20251007T140000
DTSTAMP:20260419T205041
CREATED:20250708T123136Z
LAST-MODIFIED:20250723T073854Z
UID:23226612-1759838400-1759845600@gams.be
SUMMARY:Formation pour médecins
DESCRIPTION:Formation pour médecins – Rédaction des certificats MGF\nProgramme\n\nContexte socio-culturel et importance du problème (distribution géographique)\nContexte belge et trajectoire MGF dans le cadre de la demande de protection internationale\nIconographie des différents types d’excision – Diagnostic différentiel\nConséquences physiques et psychologiques – Prise en charge\nCertificat du CGRA – Comment remplir un certificat circonstancié ?\n\n  \nIntervenant·es\n\nDr Martin Caillet\, Gynécologue\, Responsable de l’Unité CeMAViE\, CHU Saint-Pierre\nFabienne Richard\, Sage-femme\, CeMAViE\, Directrice du GAMS Belgique\n\n  \nInfos pratiques\n\nDate : Mardi 7 octobre 2025\nHoraire : 12h00 – 14h00\nEn ligne\, sur Zoom\nInscription obligatoire via ce formulaire\n\n\n\n			\n				Je m'inscris
URL:https://gams.be/evenement/formation-medecins-7-octobre-2025/
LOCATION:En ligne\, Belgium
CATEGORIES:Formation,Webinaire
ATTACH;FMTTYPE=image/png:https://gams.be/wp-content/uploads/2025/07/Agenda.png
END:VEVENT
BEGIN:VEVENT
DTSTART;TZID=Europe/Brussels:20251018T093000
DTEND;TZID=Europe/Brussels:20251018T160000
DTSTAMP:20260419T205041
CREATED:20250908T103432Z
LAST-MODIFIED:20251016T063240Z
UID:23226971-1760779800-1760803200@gams.be
SUMMARY:Journée portes ouvertes
DESCRIPTION:Portes ouvertes de l’antenne de Bruxelles\nDans le cadre de la campagne #MaFaçonDeDireNon\, qui débutera le 11 octobre\, Journée Internationale des droits des filles\, le GAMS Belgique a le plaisir de vous inviter à sa journée portes ouvertes le 18 octobre 2025. Celle-ci aura lieu dans ses locaux à Bruxelles\, 6 rue Gabrielle Petit – 1080 Molenbeek. \n  \n\nPourquoi #MaFaçonDeDireNon ?Parce qu’il n’y a pas une seule façon de dire non. Il y a des gestes\, des mots\, des actes. Cette campagne met en lumière toutes celles et ceux qui s’engagent contre les MGF\, chacun·e à sa manière. \n  \n\nDepuis près de 30 ans\, le GAMS Belgique agit pour mettre fin aux mutilations génitales féminines (MGF) et pour accompagner les personnes concernées. Cette journée sera l’occasion de découvrir notre travail\, de rencontrer notre équipe et de participer à des ateliers uniques qui allient sensibilisation et solidarité. \n\n \n\nProgramme\n\n\n9h30-10h : Accueil\n10h-11h : Atelier créatif – venez découvrir comment notre psychologue Annalisa intègre l’art dans son travail !\n11h15-12h15 : Atelier préparation à la naissance – découvrez comment notre sage-femme\, Pauline\, accompagne les femmes concernées\n12h15-13h : Pause de midi conviviale\, échanges avec l’équipe\, vente de gâteaux et boissons au profit du GAMS\n13h-14h : Photolangage – découverte de l’outil Fier·es et debout (en vente sur place)\n14h15-15h15 : Projection du documentaire Puissantes suivie d’un échange avec Mariama Bah\n\nTout au long de la journée\, vous pourrez également rencontrer l’équipe et visiter nos bureaux. \nLe livre Gourdan Tamaou\, une vie d’espoir\, sera également disponible\, et l’autrice sera présente pour une séance de dédicace. \n\n  \nInfos pratiques\n\nQuand ? samedi 18 septembre 2025\, 9h45 – 15h15\nOù ? GAMS Bruxelles (rue Gabrielle Petit 6 – 1080 Molenbeek)\nPrix : 5 € par atelier (l’intégralité des recettes sera reversée aux activités de sensibilisation du GAMS Be). Vous pouvez aussi soutenir le GAMS par un don complémentaire.\nInscription via ce formulaire\n\n\n\n			\n				Je m'inscris !
URL:https://gams.be/evenement/journee-portes-ouvertes-bruxelles-2025/
LOCATION:GAMS Bruxelles\, Rue Gabrielle Petit\, Molenbeel-Saint-Jean\, 1080
CATEGORIES:Événements
ATTACH;FMTTYPE=image/png:https://gams.be/wp-content/uploads/2025/09/20251018_Portes_ouvertes_Bruxelles.png
END:VEVENT
END:VCALENDAR