BEGIN:VCALENDAR
VERSION:2.0
PRODID:-//GAMS.be - ECPv6.14.0//NONSGML v1.0//EN
CALSCALE:GREGORIAN
METHOD:PUBLISH
X-WR-CALNAME:GAMS.be
X-ORIGINAL-URL:https://gams.be
X-WR-CALDESC:Events for GAMS.be
REFRESH-INTERVAL;VALUE=DURATION:PT1H
X-Robots-Tag:noindex
X-PUBLISHED-TTL:PT1H
BEGIN:VTIMEZONE
TZID:Europe/Brussels
BEGIN:DAYLIGHT
TZOFFSETFROM:+0100
TZOFFSETTO:+0200
TZNAME:CEST
DTSTART:20250330T010000
END:DAYLIGHT
BEGIN:STANDARD
TZOFFSETFROM:+0200
TZOFFSETTO:+0100
TZNAME:CET
DTSTART:20251026T010000
END:STANDARD
END:VTIMEZONE
BEGIN:VEVENT
DTSTART;TZID=Europe/Brussels:20250310T183000
DTEND;TZID=Europe/Brussels:20250310T183000
DTSTAMP:20260420T025236
CREATED:20250228T160213Z
LAST-MODIFIED:20250304T132425Z
UID:23225648-1741631400-1741631400@gams.be
SUMMARY:Théâtre - Être une femme\, c'est...
DESCRIPTION:La pièce Être une femme\, c’est… est une création collective de jeunes femmes du groupe Youth Activists du GAMS Belgique\, créée à l’occasion des activités de la semaine du 8 mars. \nElles partagent sur scène des expériences vécues dans leur quotidien de femmes\, de filles\, de mère ou de collègue. En colère contre les stéréotypes\, les injonctions d’une société patriarcale\, elles choisissent de résister. \nLa représentation sera suivie d’un échange entre le public et celles qui ont pris part à la création de la pièce. \nNous vous attendons nombreux·ses ! \nAvec le soutien de le ville de Bruxelles \nInfos pratiques\n\nDate : 10 mars 2025\nHoraire : drink d’accueil à 18h30\, représentation à 19h\nLieu : Salle de la Jeunesse (rue Melsens 38\, 1000 Bruxelles)\nPrix : gratuit\nInscription via ce formulaire\n\n\n\n			\n				Je m'inscris !
URL:https://gams.be/evenement/theatre-10-mars/
LOCATION:Salle de la Jeunesse\, Rue Melsens 38\, Bruxelles\, 1000
CATEGORIES:Événements
ATTACH;FMTTYPE=image/png:https://gams.be/wp-content/uploads/2025/02/Visuel-theatre.png
END:VEVENT
BEGIN:VEVENT
DTSTART;TZID=Europe/Brussels:20250306T123000
DTEND;TZID=Europe/Brussels:20250306T133000
DTSTAMP:20260420T025236
CREATED:20250225T144130Z
LAST-MODIFIED:20250226T112949Z
UID:23225542-1741264200-1741267800@gams.be
SUMMARY:Webinaire End FGM e-campus
DESCRIPTION:Vous souhaitez acquérir des connaissances sur les Mutilations Génitales Féminines (MGF) ou mettre à jour vos compétences sur le sujet ? Rejoignez-nous le jeudi 6 mars de 12h30 à 13h30 pour un webinaire exclusif dédié à la plateforme End FGM e-Campus et à sa formation certifiée ! \nAu programme :\n\nPrésentation de la plateforme e-Campus\nDémonstration des 5 modules :\n\nIntroduction aux MGF\nProtection et cadre juridique\nSanté et prise en charge\nPrévention et sensibilisation\n\nEngagement communautaire\n\n\n\nRéponses à toutes vos questions\n\nCette formation certifiée est une opportunité unique d’approfondir vos connaissances et de vous outiller pour mieux agir sur le terrain. \n  \nInfos pratiques\n\nDate : 6 mars 2025\nHoraire : 12h30 – 13h30\nFormat : Atelier en ligne (le lien de participation sera envoyé après inscription)\nInscription obligatoire via ce formulaire\n\n\n\n			\n				Je m'inscris
URL:https://gams.be/evenement/webinaire-exclusif-end-fgm-e-campus/
LOCATION:Sur Zoom !\, Belgium
CATEGORIES:Webinaire
ATTACH;FMTTYPE=image/png:https://gams.be/wp-content/uploads/2025/02/Design-sans-titre.png
END:VEVENT
BEGIN:VEVENT
DTSTART;TZID=Europe/Brussels:20250225T183000
DTEND;TZID=Europe/Brussels:20250225T203000
DTSTAMP:20260420T025236
CREATED:20250212T091918Z
LAST-MODIFIED:20250221T150214Z
UID:23225352-1740508200-1740515400@gams.be
SUMMARY:Entre héritage et changement : débat intergénérationnel
DESCRIPTION:Événement à l’ULB\, campus Solbosch – Entre héritage et changement : Débats intergénérationnels\n  \nLe 25 février\, aux côtés du Cercle Binabi\, rejoignez-nous pour un moment d’échange et de réflexion intergénérationnelle sur la culture\, les traditions et les violences basées sur le genre. Comment les traditions influencent-elles nos perceptions et nos choix ? Comment déconstruire les violences tout en valorisant nos héritages culturels ? \nUn espace de dialogue ouvert à toutes et tous\, où jeunes et aîné·es partagent leurs expériences\, interrogent les transmissions et imaginent des chemins d’évolution commune. \n  \nInformations pratiques\n\nLieu : ULB – Campus Solbosch\, Avenue Paul Héger\, 1050 Bruxelles – salle UA2114\nDate : 25 février 2025\nHeure : 18h30-20h30\n\nVenez échanger\, écouter et construire avec nous lors de ce débat intergénérationnel ! \n			\n				Je m'inscris !
URL:https://gams.be/evenement/entre-heritage-et-changement-debat-intergenerationnel/
LOCATION:ULB – Campus Solbsch\, Avenue Paul Héger\, Bruxelles\, 1050
CATEGORIES:Débat
ATTACH;FMTTYPE=image/png:https://gams.be/wp-content/uploads/2025/02/Visuel-debat-2.png
END:VEVENT
BEGIN:VEVENT
DTSTART;TZID=Europe/Brussels:20250218T193000
DTEND;TZID=Europe/Brussels:20250218T220000
DTSTAMP:20260420T025236
CREATED:20250217T111813Z
LAST-MODIFIED:20250217T153931Z
UID:23225434-1739907000-1739916000@gams.be
SUMMARY:PédiaConférence - Excision : quel est mon rôle en tant que professionnel de santé ?
DESCRIPTION:Excision : quel est mon rôle en tant que professionnel de santé ?\n\n \nLe Pédiakot a le plaisir de vous présenter sa deuxième édition de la PédiaConférence !\nCette conférence vise à sensibiliser le public tout venant et à nous aiguiller sur la façon de réagir face à l’excision.\n \nIntervenantes\n\nPauline Soupa\, sage femme au GAMS Belgique\nAminata Sidibé\, coordinatrice régionale du GAMS Bruxelles\n\n  \nInfos pratiques\n\nDate : 18 février 2025\nHoraire : 19h30 – 22h\nLieu : Auditoire Lacroix (Auditoire Central A) sur le campus d’Alma (Woluwe St-Lambert)\n\n\nPrix : gratuit \n \nLe Pédiakot organise un petit drink convivial à l’entracte où il vendra des tote bags et autres pour récolter des fonds au profit du GAMS.\n \nPetit P.-S. pour les étudiant·es en médecine : cette activité peut être utilisée comme sujet pour le portefolio !
URL:https://gams.be/evenement/pediaconference-excision-quel-est-mon-role-en-tant-que-professionnel-de-sante/
LOCATION:Campus Alma\, Auditoires-UCL\, Avenue Emmanuel Mounier\, Woluwe-Saint-Lambert\, 1200\, Belgium
CATEGORIES:Conférence,Formation
END:VEVENT
BEGIN:VEVENT
DTSTART;TZID=Europe/Brussels:20250218T140000
DTEND;TZID=Europe/Brussels:20250218T160000
DTSTAMP:20260420T025236
CREATED:20250203T134844Z
LAST-MODIFIED:20250203T135213Z
UID:23225273-1739887200-1739894400@gams.be
SUMMARY:Atelier en ligne n°1 - Série "Parents protecteurs"
DESCRIPTION:Comment valoriser les parents protecteurs et comprendre les conflits auxquels ils et elles sont confronté·es ?\nLes Stratégies concertées contre les mutilations génitales féminines (SC-MGF)\, réseau de professionnel·les coordonné par le GAMS Be\, vous invitent à un cycle de webinaires consacré au rôle crucial des parents protecteurs dans la lutte contre l’excision. \nFace à ce défi\, les SCMGF s’engagent à renforcer le lien entre les familles et les services spécialisés\, afin d’accompagner\, outiller et soutenir celles et ceux qui protègent les filles contre cette pratique. Ces webinaires seront l’occasion d’échanger\, de partager des expériences et de construire ensemble des stratégies de prévention plus efficaces. \nRejoignez-nous pour explorer comment renforcer cette alliance essentielle et agir ensemble contre l’excision. \n  \nObjectifs\n\nIdentifier les parents protecteurs et comprendre les défis qu’ils rencontrent au sein de leur famille\, face aux services externes et à la justice.\nValoriser et renforcer les stratégies de protection déjà mises en place par ces parents.\nSensibiliser les services externes aux leviers à activer pour mieux soutenir ces familles.\nEncourager une collaboration renforcée entre parents et professionnel·les pour une protection efficace et concertée.\n\n  \nIntervenant·es\n\nMariama Bah – Coordinatrice des SC-MGF\, modératrice\nKeyla Lumeka – Juriste\, GAMS Belgique\nBobo Diallo – Relais communautaire\, GAMS Belgique\n\n  \nInfos pratiques\n\nQuand ? 18 février 2025\, 14h-16h\nOù ? En ligne\, Zoom\nInscription gratuite via ce formulaire\n\n\n\n			\n				Je m'inscris
URL:https://gams.be/evenement/atelier-en-ligne-n1-serie-parents-protecteurs/
LOCATION:Sur Zoom !\, Belgium
CATEGORIES:Webinaire
ATTACH;FMTTYPE=image/png:https://gams.be/wp-content/uploads/2025/02/2025_SCMGF_VISU_AteliersEnLigne.png
END:VEVENT
BEGIN:VEVENT
DTSTART;TZID=Europe/Brussels:20250211T193000
DTEND;TZID=Europe/Brussels:20250211T223000
DTSTAMP:20260420T025236
CREATED:20250113T081815Z
LAST-MODIFIED:20250113T104633Z
UID:23225113-1739302200-1739313000@gams.be
SUMMARY:Louvain-la-Neuve - Ciné débat "Koromousso - Grande Soeur"
DESCRIPTION:À l’occasion de la Journée Internationale de Tolérance Zéro à l’égard des Mutilations Génitales Féminines (MGF)\, nous vous invitons à un ciné-débat exceptionnel  autour du documentaire « Koromousso – Grande Sœur »\, en présence de la réalisatrice Habibata Ouarmé\, à Louvain-la-Neuve\, sur le campus de l’UCL. \nRejoignez-nous pour cette soirée d’échange et de sensibilisation autour d’un sujet crucial. Nous comptons sur votre présence pour enrichir ce débat et avancer ensemble vers un futur sans MGF ! \n  \nProgramme\n\n19h30 : Accueil\n20h00 : Début de la projection\n21h30 : Débat\n22h30 : Fin de l’événement\n\n  \nInfos pratiques\n\nDate : mardi 11 février 2025\, à partir de 19h30\nLieu : STUD11\, 19 Place Agora – 1348 Ottignies-Louvain-la-Neuve\nPrix libre\nInscription obligatoire via ce formulaire\n\n\n\n			\n				Je réserve ma place
URL:https://gams.be/evenement/louvain-la-neuve-cine-debat-koromousso-grande-soeur/
LOCATION:STUD11\, UCL\, Place Agora\, 9\, Louvain-la-Neuve\, 1348\, Belgium
CATEGORIES:Événements,Projection
ATTACH;FMTTYPE=image/png:https://gams.be/wp-content/uploads/2025/01/20250607_GAMS_6Fev_VISU_SW_CineDebatLLN_VF.png
END:VEVENT
BEGIN:VEVENT
DTSTART;TZID=Europe/Brussels:20250207T183000
DTEND;TZID=Europe/Brussels:20250207T223000
DTSTAMP:20260420T025236
CREATED:20250109T133504Z
LAST-MODIFIED:20250113T112405Z
UID:23225076-1738953000-1738967400@gams.be
SUMMARY:Charleroi -  Ciné-débat "Koromousso - Grande Soeur"
DESCRIPTION:À l’occasion de la Journée Internationale de Tolérance Zéro à l’égard des Mutilations Génitales Féminines (MGF)\, nous vous invitons à un ciné-débat exceptionnel autour du documentaire « Koromousso – Grande Sœur »\, en présence de la réalisatrice Habibata Ouarmé. \nRejoignez-nous pour cette soirée d’échange et de sensibilisation autour d’un sujet crucial. Nous comptons sur votre présence pour enrichir ce débat et avancer ensemble vers un futur sans MGF ! \n  \nProgramme\n\n18h30 : Accueil avec drink et sandwichs\n19h30 : Projection du documentaire\n21h : Débat\n22h30 : Fin de l’événement\n\nInfos pratiques\n\nDate : vendredi 7 février 2025\, à partir de 18h30\nLieu : Quai 10\, Quai Arthur Rimbaud 10 – 6000 Charleroi\nPrix libre\nInscription obligatoire via ce formulaire\n\n\n\n			\n				Je réserve ma place
URL:https://gams.be/evenement/6-fevrier-cine-debat-koromousso-grande-soeur/
LOCATION:Quai 10\, Quai Arthur Rimbaud 10\, Charleroi\, 6000\, Belgium
CATEGORIES:Événements,Projection
ATTACH;FMTTYPE=image/png:https://gams.be/wp-content/uploads/2025/01/20250607_GAMS_6Fev_VISU_SW_CineDebatCharleroi_VF.png
END:VEVENT
BEGIN:VEVENT
DTSTART;TZID=Europe/Brussels:20250206T184500
DTEND;TZID=Europe/Brussels:20250206T213000
DTSTAMP:20260420T025236
CREATED:20250113T111539Z
LAST-MODIFIED:20250131T145220Z
UID:23225131-1738867500-1738877400@gams.be
SUMMARY:Bruxelles - Ciné débat "Koromousso - Grande Soeur"
DESCRIPTION:À l’occasion de la Journée Internationale de Tolérance Zéro à l’égard des Mutilations Génitales Féminines (MGF)\, nous vous invitons à un ciné-débat exceptionnel  autour du documentaire « Koromousso – Grande Sœur »\, en présence de la réalisatrice Habibata Ouarmé\, à Bruxelles. \nRejoignez-nous pour cette soirée d’échange et de sensibilisation autour d’un sujet crucial. Nous comptons sur votre présence pour enrichir ce débat et avancer ensemble vers un futur sans MGF ! \n  \nProgramme\n\n18h45 : Début de la projection\n20h00 : Débat\n\nInfos pratiques\n\nDate : jeudi 6 février 2025\, à 18h45\nLieu : Cinéma Vendôme\, 19 Chaussée de Wavre – 1050 Ixelles\nEntrée gratuite\nInscription obligatoire via formulaire\n\n\n\n			\n				Je réserve ma place
URL:https://gams.be/evenement/bruxelles-cine-debat-koromousso-grande-soeur/
LOCATION:Cinéma Vendôme\, Chaussée de Wavre\, 18\, Bruxelles\, 1050
CATEGORIES:Événements,Projection
ATTACH;FMTTYPE=image/png:https://gams.be/wp-content/uploads/2025/01/20250607_GAMS_6Fev_VISU_SW_CineDebatBruxelles_VF.png
END:VEVENT
BEGIN:VEVENT
DTSTART;TZID=Europe/Brussels:20250205T190000
DTEND;TZID=Europe/Brussels:20250205T220000
DTSTAMP:20260420T025236
CREATED:20250110T131858Z
LAST-MODIFIED:20250114T103004Z
UID:23225101-1738782000-1738792800@gams.be
SUMMARY:Liège - Ciné débat "Koromousso - Grande Soeur"
DESCRIPTION:À l’occasion de la Journée Internationale de Tolérance Zéro à l’égard des Mutilations Génitales Féminines (MGF)\, nous vous invitons à un ciné-débat exceptionnel  autour du documentaire « Koromousso – Grande Sœur »\, en présence de la réalisatrice Habibata Ouarmé\, à Liège. \nRejoignez-nous pour cette soirée d’échange et de sensibilisation autour d’un sujet crucial. Nous comptons sur votre présence pour enrichir ce débat et avancer ensemble vers un futur sans MGF ! \n  \nProgramme\n\n19h00 : Accueil\n19h30 : Projection du documentaire\n21h00 : Débat\n\n  \nInfos pratiques\n\nDate : Mercredi 5 février 2025\, à 19h\nLieu : YUST Hotel\, Esplanade Simone Veil 2 – 4000 Liège\nPrix libre\nInscription via ce formulaire\n\n\n\n			\n				Je réserve ma place
URL:https://gams.be/evenement/liege-cine-debat-koromousso-grande-soeur/
LOCATION:YUST Hôtel\, Esplanade Simone Veil 2\, Liège\, 4000
CATEGORIES:Événements,Projection
ATTACH;FMTTYPE=image/png:https://gams.be/wp-content/uploads/2025/01/20250607_GAMS_6Fev_VISU_SW_CineDebatLiege_VF.png
END:VEVENT
BEGIN:VEVENT
DTSTART;TZID=Europe/Brussels:20250205T120000
DTEND;TZID=Europe/Brussels:20250205T140000
DTSTAMP:20260420T025236
CREATED:20250113T115123Z
LAST-MODIFIED:20250114T145654Z
UID:23225139-1738756800-1738764000@gams.be
SUMMARY:5 février - Sénat
DESCRIPTION: En Belgique\, plus de 35 000 filles et femmes sont concernées par les mutilations génitales féminines (MGF). Bien que le pays soit souvent cité en exemple pour ses efforts (prévalence\, prise en charge multidisciplinaire\, formations\, protocoles hospitaliers)\, des défis importants demeurent\, notamment pour mieux informer les familles venues par regroupement familial et renforcer la prévention et l’accompagnement en Flandre\, une région sous-dotée en ressources dédiées à cette pratique. \nProgramme\n\n12h00-12h30 : Accueil et sandwichs\n12h30 : Mot de bienvenue – Diariou Sow (Présidente\, GAMS Be)\n12h40 : Contexte belge – Fabienne Richard (Directrice\, GAMS Be) & Katrien De Koster (Coordinatrice des activités en Flandre\, GAMS Be)\n12h55 : Travail des community voices – Mawda (Responsable\, GAMS Be)\n13h00 : Évaluation de l’impact social du GAMS Belgique (ESSEC)\n13h15 : Présentation du E-Learning MGF (Marianne Nguena\, Réseau européen End FGM)\n13h30 : Questions-réponses (modération bilingue)\n\nCet événement mettra en lumière les avancées en Belgique tout en discutant des priorités pour un futur sans MGF. \n  \nInfos pratiques\n\nQuand ? Mercredi 5 février 2025\, 12h-14h\nOù ? Sénat\, salle K – Rue de Louvain 7\, 1000 Bruxelles\nEvénement en français et néerlandais\nInscription obligatoire via ce formulaire\n\n\n\n			\n				inscription
URL:https://gams.be/evenement/5-fevrier-senat/
LOCATION:Sénat\, salle K\, Leuvenseweg 7\, Brussel\, 1000
CATEGORIES:Événements
ATTACH;FMTTYPE=image/png:https://gams.be/wp-content/uploads/2025/01/Cine-deb-2.png
END:VEVENT
BEGIN:VEVENT
DTSTART;TZID=Europe/Brussels:20250123T180000
DTEND;TZID=Europe/Brussels:20250123T200000
DTSTAMP:20260420T025236
CREATED:20250115T105420Z
LAST-MODIFIED:20250115T105504Z
UID:23225220-1737655200-1737662400@gams.be
SUMMARY:Rencontre avec l'auteure de "Gourdan Tamaou\, une vie d'espoir"
DESCRIPTION:Le K’Fem vous invite à rencontrer l’auteure de “Gourdan Tamaou\, une vie d’espoir”\, Maladho Dian aussi connue sous le nom de Mariama Bah. « Gourdan Tamaou\, une vie d’espoir » est inspiré de recueils de témoignages et de faits réels et raconte l’expérience de plusieurs femmes originaires de Guinée et d’ailleurs. \n\nA partir de lecture d’extraits du livre\, nous discuterons et essaierons de comprendre les différentes problématiques liées à l’excision et l’exil. \nVenez découvrir ce livre avec nous le jeudi 23 janvier 2025 de 18h à 20h dans les locaux du Monde Selon les Femmes. \n\nLe livre sera disponible à la vente sur place pour les intéressé·es. \n \n\n\nInfos pratiques\n\nDate : Jeudi 23 janvier 2025\nHoraire : 18h-20h\nLieu : 18\, rue de la Sablionnière – 1000 Bruxelles\nEntrée gratuite sur inscription via ce lien.\n\n\n\n			\n				Je m'inscris
URL:https://gams.be/evenement/rencontre-avec-lauteure-de-gourdan-tamaou-une-vie-despoir/
LOCATION:Le Monde Selon les Femmes\, 18\, Rue de la Sablonnière\, Bruxelles\, 1000
CATEGORIES:Événements
ATTACH;FMTTYPE=image/png:https://gams.be/wp-content/uploads/2025/01/Livre-Mariama.png
END:VEVENT
END:VCALENDAR