BEGIN:VCALENDAR
VERSION:2.0
PRODID:-//GAMS.be - ECPv6.14.0//NONSGML v1.0//EN
CALSCALE:GREGORIAN
METHOD:PUBLISH
X-ORIGINAL-URL:https://gams.be
X-WR-CALDESC:Events for GAMS.be
REFRESH-INTERVAL;VALUE=DURATION:PT1H
X-Robots-Tag:noindex
X-PUBLISHED-TTL:PT1H
BEGIN:VTIMEZONE
TZID:Europe/Brussels
BEGIN:DAYLIGHT
TZOFFSETFROM:+0100
TZOFFSETTO:+0200
TZNAME:CEST
DTSTART:20260329T010000
END:DAYLIGHT
BEGIN:STANDARD
TZOFFSETFROM:+0200
TZOFFSETTO:+0100
TZNAME:CET
DTSTART:20261025T010000
END:STANDARD
END:VTIMEZONE
BEGIN:VEVENT
DTSTART;TZID=Europe/Brussels:20260421T080000
DTEND;TZID=Europe/Brussels:20260421T170000
DTSTAMP:20260423T005457
CREATED:20260421T090816Z
LAST-MODIFIED:20260421T092645Z
UID:23228615-1776758400-1776790800@gams.be
SUMMARY:Projection de la campagne de sensibilisation 2026
DESCRIPTION:Projection de la campagne de sensibilisation Pré-Vacances 2026\nLe mercredi 13 mai 2026\, nous vous invitons à découvrir en avant-première notre campagne Pré-Vacances 2026\, lors d’une projection au Cinéma Palace à Bruxelles\, de 10h à 12h. L’accueil se fera à partir de 9h30. \nCette année\, la campagne met particulièrement en avant la jeunesse. Réalisée avec le soutien des groupes Youth Activists et d’une agence de communication\, la vidéo d’une minute donne la parole à des petites filles et adolescentes pour porter un message fort de sensibilisation contre l’excision. \nLa projection sera suivie d’un temps d’échange et de débat\, afin de prolonger la réflexion autour de cette campagne et des enjeux qu’elle soulève. \nL’événement est ouvert à notre public ainsi qu’aux jeunes\, en particulier à celles et ceux qui ont participé à l’élaboration du projet. Pour les jeunes ayant cours ce jour-là\, un justificatif d’absence pourra être fourni par le GAMS. \n  \nInfos pratiques\n\nDate : Mercredi 13 mai 2026\nHoraire : 10h00 – 12h00 – accueil à 9h30\nLieu : Cinéma Palace à Bruxelles – Bd Anspach 85\, 1000 Bruxelles.\nInscription obligatoire via ce formulaire\n\n\n\n			\n				Je m'inscris
URL:https://gams.be/evenement/projection-de-la-campagne-de-sensibilisation-2026/
LOCATION:Cinéma Palace\, Boulevard Anspach 85\, Bruxelles\, 1000
CATEGORIES:Débat,Événements,Projection
ATTACH;FMTTYPE=image/jpeg:https://gams.be/wp-content/uploads/2026/04/13-mai-RS-3-scaled.jpg
END:VEVENT
BEGIN:VEVENT
DTSTART;TZID=Europe/Brussels:20260519T120000
DTEND;TZID=Europe/Brussels:20260519T140000
DTSTAMP:20260423T005457
CREATED:20260324T145120Z
LAST-MODIFIED:20260324T150605Z
UID:23228491-1779192000-1779199200@gams.be
SUMMARY:Webinaire : Formation rédaction des certificats MGF
DESCRIPTION:Formation pour médecins – Rédaction des certificats MGF\nProgramme\n\nContexte socio-culturel et importance du problème (distribution géographique)\nContexte belge et trajectoire MGF dans le cadre de la demande de protection internationale\nIconographie des différents types d’excision – Diagnostic différentiel\nConséquences physiques et psychologiques – Prise en charge\nCertificat du CGRA – Comment remplir un certificat circonstancié ?\n\n  \nIntervenant·es\n\nDr Martin Caillet\, Gynécologue\, Responsable de l’Unité CeMAViE\, CHU Saint-Pierre\nFabienne Richard\, Sage-femme\, CeMAViE\, Directrice du GAMS Belgique\n\n  \nInfos pratiques\n\nDate : Mardi 19 mai 2026\nHoraire : 12h00 – 14h00\nEn ligne\, sur Zoom\nInscription obligatoire via ce formulaire\n\n\n\n			\n				Je m'inscris
URL:https://gams.be/evenement/webinaire-formation-redaction-des-certificats-mgf/
LOCATION:En ligne\, Belgium
CATEGORIES:Webinaire
ATTACH;FMTTYPE=image/png:https://gams.be/wp-content/uploads/2025/07/Agenda.png
END:VEVENT
BEGIN:VEVENT
DTSTART;TZID=Europe/Brussels:20260627T093000
DTEND;TZID=Europe/Brussels:20260627T220000
DTSTAMP:20260423T005457
CREATED:20260218T094451Z
LAST-MODIFIED:20260218T100603Z
UID:23228317-1782552600-1782597600@gams.be
SUMMARY:30 ans du GAMS
DESCRIPTION:Le 27 juin\, nous vous invitons à célébrer un cap fort : 30 ans d’engagement du GAMS Belgique aux côtés des filles et des femmes concernées par les mutilations génitales féminines. Ces 30 ans\, ce sont des combats menés collectivement\, des défis relevés\, des évolutions importantes dans la prise en charge et la prévention\, mais aussi une vision renouvelée pour les années à venir. Cette journée sera l’occasion de revenir sur ce chemin parcouru\, de partager notre nouveau plan stratégique et\, surtout\, de nous projeter ensemble vers l’avenir. \nProgramme :\n \n\n9h-9h30 : Accueil et petit-déjeuner 9h30-12h30\n9h30-12h : Panels de discussion avec une rétrospective\, notre évolution\, et le nouveau plan stratégique pour les années futures.\n12h-14h : Pause de midi – stands de nourriture\n14h-17h30 : Workshops (projections\, débats\, discussion fish bowl\, ateliers artistiques)\n18h-22h : Soirée musicale\n\nCette journée est gratuite et ouverte à tous·tes. \nLieu : LaVallée\, Rue Adolphe LaVallée 39 – 1080 Bruxelles \nInscrivez-vous ici.
URL:https://gams.be/evenement/30-ans-du-gams/
CATEGORIES:Événements
ATTACH;FMTTYPE=image/png:https://gams.be/wp-content/uploads/2026/02/banner-30-ans-scaled.png
END:VEVENT
BEGIN:VEVENT
DTSTART;TZID=Europe/Brussels:20261110T120000
DTEND;TZID=Europe/Brussels:20261110T140000
DTSTAMP:20260423T005457
CREATED:20260407T121310Z
LAST-MODIFIED:20260407T121346Z
UID:23228579-1794312000-1794319200@gams.be
SUMMARY:Formation pour médecins - Rédaction des certificats MGF
DESCRIPTION:Formation pour médecins – Rédaction des certificats MGF\nProgramme\n\nContexte socio-culturel et importance du problème (distribution géographique)\nContexte belge et trajectoire MGF dans le cadre de la demande de protection internationale\nIconographie des différents types d’excision – Diagnostic différentiel\nConséquences physiques et psychologiques – Prise en charge\nCertificat du CGRA – Comment remplir un certificat circonstancié ?\n\n  \nIntervenant·es\n\nDr Martin Caillet\, Gynécologue\, Responsable de l’Unité CeMAViE\, CHU Saint-Pierre\nFabienne Richard\, Sage-femme\, CeMAViE\, Directrice du GAMS Belgique\n\n  \nInfos pratiques\n\nDate : Mardi 10 novembre 2026\nHoraire : 12h00 – 14h00\nEn ligne\, sur Zoom\nInscription obligatoire via ce formulaire\n\n\n\n			\n				Je m'inscris
URL:https://gams.be/evenement/23228579/
LOCATION:Sur Zoom !\, Belgium
CATEGORIES:Formation,Webinaire
ATTACH;FMTTYPE=image/png:https://gams.be/wp-content/uploads/2026/04/Agenda-1.png
END:VEVENT
END:VCALENDAR