BEGIN:VCALENDAR
VERSION:2.0
PRODID:-//GAMS.be - ECPv6.14.0//NONSGML v1.0//EN
CALSCALE:GREGORIAN
METHOD:PUBLISH
X-WR-CALNAME:GAMS.be
X-ORIGINAL-URL:https://gams.be
X-WR-CALDESC:Events for GAMS.be
REFRESH-INTERVAL;VALUE=DURATION:PT1H
X-Robots-Tag:noindex
X-PUBLISHED-TTL:PT1H
BEGIN:VTIMEZONE
TZID:Europe/Brussels
BEGIN:DAYLIGHT
TZOFFSETFROM:+0100
TZOFFSETTO:+0200
TZNAME:CEST
DTSTART:20250330T010000
END:DAYLIGHT
BEGIN:STANDARD
TZOFFSETFROM:+0200
TZOFFSETTO:+0100
TZNAME:CET
DTSTART:20251026T010000
END:STANDARD
END:VTIMEZONE
BEGIN:VEVENT
DTSTART;TZID=Europe/Brussels:20250404T160000
DTEND;TZID=Europe/Brussels:20250404T183000
DTSTAMP:20260423T094528
CREATED:20250325T125615Z
LAST-MODIFIED:20250325T130710Z
UID:23225841-1743782400-1743791400@gams.be
SUMMARY:Webinaire - Comprendre les besoins des auteur⸱es pour éviter la violence
DESCRIPTION:Vous souhaitez en savoir plus sur les besoins des auteur⸱es afin d’éviter la violence et briser le cycle de la récidive ? Rejoignez-nous pour ce webinaire !  \n\n\nCet événement gratuit\, organisé par la Coalition Feminists for Justice (dont fait partie le GAMS) avec le soutien de l’Institut pour l’égalité entre les femmes et les hommes\, s’inscrit dans le cadre de notre cycle de séminaires dédié à repenser les outils juridiques pour mieux prévenir et combattre les violences faites aux femmes.\n \nNous nous réjouissons de vous retrouver à l’occasion du webinaire et d’échanger avec vous sur ce sujet qui se promet d’être riche et passionnant.\n \n\n\n\nInfos pratiques\n\nDate : vendredi 4 avril 2025\nHoraire : 16h – 18h30\nLieu : en ligne\, sur Microsoft Teams\nInscription via ce formulaire\nPlus d’infos : contactez le +32 (0)81/71.75.78 ou écrivez à l’adresse info@femmesdedroit.be\n\n\n\n\n			\n				Je m'inscris !
URL:https://gams.be/evenement/webinaire-comprendre-les-besoins-des-auteur%e2%b8%b1es-pour-eviter-la-violence/
LOCATION:En ligne\, Belgium
CATEGORIES:Formation,Webinaire
ATTACH;FMTTYPE=image/png:https://gams.be/wp-content/uploads/2025/03/Visuel-webinaire.png
END:VEVENT
BEGIN:VEVENT
DTSTART;TZID=Europe/Brussels:20250415T120000
DTEND;TZID=Europe/Brussels:20250415T140000
DTSTAMP:20260423T094528
CREATED:20250204T100124Z
LAST-MODIFIED:20250212T145324Z
UID:23225281-1744718400-1744725600@gams.be
SUMMARY:Formation - Rédaction des certificats MGF
DESCRIPTION:Formation pour médecins – Rédaction des certificats MGF\nProgramme\n\nContexte socio-culturel et importance du problème (distribution géographique)\nContexte belge et trajectoire MGF dans le cadre de la demande de protection internationale\nIconographie des différents types d’excision – Diagnostic différentiel\nConséquences physiques et psychologiques – Prise en charge\nCertificat du CGRA – Comment remplir un certificat circonstancié ?\n\n  \nIntervenant·es\n\nDr Martin Caillet\, Gynécologue\, Responsable de l’Unité CeMAViE\, CHU Saint-Pierre\nFabienne Richard\, Sage-femme\, CeMAViE\, Directrice du GAMS Be\n\n  \nInfos pratiques\n\nDate : Mardi 15 avril 2025\nHoraire : 12h00 – 14h00\nEn ligne\, sur Zoom\nInscription obligatoire via ce formulaire\n\n\n\n			\n				Je m'inscris
URL:https://gams.be/evenement/formation-redaction-des-certificats-mgf/
LOCATION:Sur Zoom !\, Belgium
CATEGORIES:Formation,Webinaire
ATTACH;FMTTYPE=image/png:https://gams.be/wp-content/uploads/2025/02/Formation-Certificat-CGRA-Medecins-Couverture-Facebook.png
END:VEVENT
BEGIN:VEVENT
DTSTART;TZID=Europe/Brussels:20250422T140000
DTEND;TZID=Europe/Brussels:20250422T160000
DTSTAMP:20260423T094528
CREATED:20250402T074820Z
LAST-MODIFIED:20250409T091900Z
UID:23225950-1745330400-1745337600@gams.be
SUMMARY:Atelier en ligne n°2 – Série « Parents protecteurs »
DESCRIPTION:Comment accompagner les parents protecteurs dans leur cheminement de protection ?\nLes Stratégies concertées contre les mutilations génitales féminines (SC-MGF)\, réseau de professionnel·les coordonné par le GAMS Be\, vous invitent à un cycle de webinaires consacré au rôle crucial des parents protecteurs dans la lutte contre l’excision. \nFace à ce défi\, les SC-MGF s’engagent à contribuer au renforcement des capacités de leurs membres afin de pouvoir comprendre et mieux accompagner les parents protecteurs dans l’intention de : \n\nReconnaître la souffrance du parent protecteur\, tiraillé entre son devoir de protection et un attachement à une figure parentale excluante.\nProposer un accompagnement psychologique et émotionnel pour aider à comprendre et gérer ces tensions.\nMettre en place des espaces de parole et des groupes de soutien afin de renforcer le réseau d’aide.\nSensibiliser les professionnel·les aux enjeux culturels et familiaux pour éviter des jugements hâtifs.\nAdapter l’accompagnement selon le degré de « déconstruction » du parent\, de l’écoute bienveillante à la valorisation de son engagement.\n\n  \nObjectif\nL’objectif est d’accompagner chaque parent en fonction de son niveau de réflexion et de ses besoins\, tout en respectant son rythme et ses limites. \n  \nIntervenantes\n\nMariama Bah – Coordinatrice des SC-MGF\, modératrice\nLouise Da Via – Assistante sociale\, GAMS Belgique\nBintou Haidara – Relais communautaire\, GAMS Belgique\n\n  \nInfos pratiques\n\nQuand ? mardi 22 avril 2025\, 14h-16h\nOù ? En ligne\, sur Zoom\nInscription gratuite via ce formulaire\n\n\n\n			\n				Je m'inscris !
URL:https://gams.be/evenement/atelier-en-ligne-2-serie-parents-protecteurs/
LOCATION:En ligne\, Belgium
CATEGORIES:Webinaire
ATTACH;FMTTYPE=image/png:https://gams.be/wp-content/uploads/2025/02/2025_SCMGF_VISU_AteliersEnLigne.png
END:VEVENT
BEGIN:VEVENT
DTSTART;TZID=Europe/Brussels:20250424T140000
DTEND;TZID=Europe/Brussels:20250424T160000
DTSTAMP:20260423T094528
CREATED:20250317T161752Z
LAST-MODIFIED:20250730T065029Z
UID:23225797-1745503200-1745510400@gams.be
SUMMARY:Webinaire : Rôle des rapports d'expertise
DESCRIPTION:Les Stratégies Concertées contre les mutilations génitales féminines (SC-MGF) ont le plaisir de vous inviter au présent cycle de webinaires consacré aux MGF au prisme de l’asile. \n\nCe webinaire se focalisera sur une meilleure protection internationale des demandes liées à l’excision et autres violences basées sur le genre. Il y sera question du rôle clé des rapports d’expertise (contentieux stratégiques\, analyse de la jurisprudence\, actualités juridiques et présentation des ressources juridiques). \n\n\nInvité·es\n\nOrchid project\nAsylos\n\n\nPublic cible\n\nAvocat·es\nPracticien·nes du droit\nSecteurs de l’asile\n\nTous niveaux de connaissance. \nLes avocat·es ont droit à trois points de formation par session. \n\nPrérequis\nEnd FGM E-Campus : formation en ligne certifiée et gratuite sur les MGF \n\n\n\n\nInfos pratiques\n\nDate : jeudi 24 avril 2025\nHoraire : 14h – 16h\nLieu : en ligne\, sur Zoom\nInscription via ce formulaire\nPour plus d’infos : contactez keyla@gams.be\n\n\n\n\n			\n				Je m'inscris !
URL:https://gams.be/evenement/webinaire-role-des-rapports-dexpertise/
LOCATION:En ligne\, Belgium
CATEGORIES:Formation,Webinaire
ATTACH;FMTTYPE=image/jpeg:https://gams.be/wp-content/uploads/2025/03/Copie-de-20250424_Resume_webinaire.jpg
END:VEVENT
END:VCALENDAR