BEGIN:VCALENDAR
VERSION:2.0
PRODID:-//GAMS.be - ECPv6.14.0//NONSGML v1.0//EN
CALSCALE:GREGORIAN
METHOD:PUBLISH
X-WR-CALNAME:GAMS.be
X-ORIGINAL-URL:https://gams.be
X-WR-CALDESC:Events for GAMS.be
REFRESH-INTERVAL;VALUE=DURATION:PT1H
X-Robots-Tag:noindex
X-PUBLISHED-TTL:PT1H
BEGIN:VTIMEZONE
TZID:Europe/Brussels
BEGIN:DAYLIGHT
TZOFFSETFROM:+0100
TZOFFSETTO:+0200
TZNAME:CEST
DTSTART:20260329T010000
END:DAYLIGHT
BEGIN:STANDARD
TZOFFSETFROM:+0200
TZOFFSETTO:+0100
TZNAME:CET
DTSTART:20261025T010000
END:STANDARD
END:VTIMEZONE
BEGIN:VEVENT
DTSTART;TZID=Europe/Brussels:20260205T190000
DTEND;TZID=Europe/Brussels:20260205T213000
DTSTAMP:20260419T163404
CREATED:20260113T150055Z
LAST-MODIFIED:20260113T151714Z
UID:23228022-1770318000-1770327000@gams.be
SUMMARY:Ciné-discussion sur le film "Puissantes"
DESCRIPTION:À l’occasion du 6 février\, Journée internationale de tolérance zéro à l’égard des mutilations génitales féminines\, le GAMS Liège a le plaisir de vous inviter à un ciné-débat organisé au YUST Hôtel. \nLe film projeté sera “Puissantes”\, un documentaire réalisé par Héléna De Bauw & Baptiste Maryns et produit par TDM asbl. Il présente le travail de Mariama Bah au sein du GAMS Belgique et offre un apercu de l’accompagnement de personnes concernées par les mutilations génitales féminines (MGF). La discussion portera sur les MGF et leurs enjeux au sein du GAMS. \n  \nActivités\nL’événement débutera à 19h avec l’accueil des participants\, suivi de la projection à 19h30\, d’un débat à 20h\, et se clôturera à 21h30. \n\n\n  \n\n\nInfos pratiques\n\nQuand ? 05 février 2026\, 19h00-21h30\nOù ? au YUST Hôtel – Esplanade Simone Veil 2\, 4000 Liège\nInscription gratuite via ce formulaire\n\n\n\n			\n			\n				\n				\n				\n				\n			\n				\n				\n				\n				\n				\n				\n				Inscription par ici!
URL:https://gams.be/evenement/cine-discussion-sur-le-film-puissantes/
LOCATION:YUST Hôtel\, Esplanade Simone Veil 2\, Liège\, 4000
CATEGORIES:Débat,Projection
ATTACH;FMTTYPE=image/png:https://gams.be/wp-content/uploads/2026/01/Visuels-060226-10.png
END:VEVENT
END:VCALENDAR