BEGIN:VCALENDAR
VERSION:2.0
PRODID:-//GAMS.be - ECPv6.14.0//NONSGML v1.0//EN
CALSCALE:GREGORIAN
METHOD:PUBLISH
X-ORIGINAL-URL:https://gams.be
X-WR-CALDESC:Events for GAMS.be
REFRESH-INTERVAL;VALUE=DURATION:PT1H
X-Robots-Tag:noindex
X-PUBLISHED-TTL:PT1H
BEGIN:VTIMEZONE
TZID:Europe/Brussels
BEGIN:DAYLIGHT
TZOFFSETFROM:+0100
TZOFFSETTO:+0200
TZNAME:CEST
DTSTART:20250330T010000
END:DAYLIGHT
BEGIN:STANDARD
TZOFFSETFROM:+0200
TZOFFSETTO:+0100
TZNAME:CET
DTSTART:20251026T010000
END:STANDARD
END:VTIMEZONE
BEGIN:VEVENT
DTSTART;VALUE=DATE:20251211
DTEND;VALUE=DATE:20251213
DTSTAMP:20260419T193148
CREATED:20250912T143632Z
LAST-MODIFIED:20250915T091423Z
UID:23227113-1765411200-1765583999@gams.be
SUMMARY:Formation sages-femmes relais MGF
DESCRIPTION:Formation sages-femmes relais MGF\nPrévention et prise en charge des mutilations génitales féminines\nLe GAMS Belgique a le plaisir de vous inviter à une formation destinée aux sages-femmes qui travaillent dans les hôpitaux ! \nLa formation se déroulera les 11 et 12 décembre 2025 au GAMS Bruxelles. \nInfos et inscriptions : pauline@gams.be \n\n\nFinancé par le SPF Santé Publique \n \n \n\n\nProgramme\n\nJOURNÉE 1 : 11 décembre 2025\n\n8h30-9h00 : Accueil\n9h00-9h20 : Mot de bienvenue – Pauline Soupa\, sage-femme au GAMS Belgique\n9h20-11h30 : Contexte historique\, discriminations systémiques et accès à la santé – Myriam Mhamedi\, consultante Intersectionnalité\, Santé et Inclusion\n11h30-11h45 : Pause\n11h45-12h45 : 1re partie – Les mutilations génitales féminines : types\, pratique\, répartition et prévalence\, conséquences sur la santé physique\, conduites à tenir (consultations prénatales\, accouchement\, post-partum) – Pauline Soupa\, sage-femme au GAMS Belgique\n12h45-13h45 : Pause\n13h45-14h45 : Partage d’expérience d’une travailleuse interculturelle du GAMS – Fos Mohamed Nur\n14h45-15h15 : 2e partie – Les mutilations génitales féminines : types\, pratique\, répartition et prévalence\, conséquences sur la santé physique\, conduites à tenir (consultations prénatales\, accouchement\, post-partum) – Pauline Soupa\, sage-femme au GAMS Belgique\n15h15-15h30 : Pause\n15h30-17h00 : Conséquences psychologiques des MGF et accompagnement – Annalisa D’Aguanno\, psychologue au GAMS Belgique\n\n\n\n\nJOURNÉE 2 : 12 décembre 2025\n\n8h30-9h00 : Accueil\n9h00-10h30 : 3e partie – Les mutilations génitales féminines : types\, pratique\, répartition et prévalence\, conséquences sur la santé physique\, conduites à tenir (consultations prénatales\, accouchement\, post-partum) – Pauline Soupa\, sage-femme au GAMS Belgique\n10h30-11h00 : Pause\n11h00-12h30 : Communication avec les familles et les femmes concernées par les MGF – Bountou Kouyaté\, travailleuse interculturelle au GAMS Belgique\n12h30-13h30 : Pause\n13h30-14h30 : Communication avec les familles et les femmes concernées par les MGF – Bountou Kouyaté\, travailleuse interculturelle au GAMS Belgique\n14h30-15h45 : Être sage-femme relais dans mon hôpital\, qu’est-ce que cela signifie ? Expériences de sages-femmes relais et travail en sous-groupes : avec quel projet débuter dans mon hôpital ? – Pauline Soupa\, sage-femme au GAMS Belgique.\n15h45-16h00 : Pause\n16h00-16h30 : Évaluation et clôture\n\n\n\n  \nInfos pratiques\n\nQuand ? jeudi 11 décembre (8h30 – 17h) et vendredi 12 décembre (8h30 – 16h30)\nOù ? GAMS Bruxelles (rue Gabrielle Petit 6 – 1080 Molenbeek)\nInfos et inscription : pauline@gams.be\nCliquez ici pour télécharger le programme au format PDF
URL:https://gams.be/evenement/formation-sage-femme-relais-mgf/
LOCATION:GAMS Bruxelles\, Rue Gabrielle Petit\, Molenbeel-Saint-Jean\, 1080
CATEGORIES:Formation
ATTACH;FMTTYPE=image/png:https://gams.be/wp-content/uploads/2025/09/20251211_Formation-sages-femmes-relais-MGF.png
END:VEVENT
END:VCALENDAR