BEGIN:VCALENDAR
VERSION:2.0
PRODID:-//GAMS.be - ECPv6.14.0//NONSGML v1.0//EN
CALSCALE:GREGORIAN
METHOD:PUBLISH
X-ORIGINAL-URL:https://gams.be
X-WR-CALDESC:Events for GAMS.be
REFRESH-INTERVAL;VALUE=DURATION:PT1H
X-Robots-Tag:noindex
X-PUBLISHED-TTL:PT1H
BEGIN:VTIMEZONE
TZID:Europe/Brussels
BEGIN:DAYLIGHT
TZOFFSETFROM:+0100
TZOFFSETTO:+0200
TZNAME:CEST
DTSTART:20250330T010000
END:DAYLIGHT
BEGIN:STANDARD
TZOFFSETFROM:+0200
TZOFFSETTO:+0100
TZNAME:CET
DTSTART:20251026T010000
END:STANDARD
END:VTIMEZONE
BEGIN:VEVENT
DTSTART;TZID=Europe/Brussels:20250916T140000
DTEND;TZID=Europe/Brussels:20250916T160000
DTSTAMP:20260419T235058
CREATED:20250318T093023Z
LAST-MODIFIED:20250730T064645Z
UID:23225806-1758031200-1758038400@gams.be
SUMMARY:Webinaire : Rôle de l'avocat·e
DESCRIPTION:Les Stratégies Concertées contre les mutilations génitales féminines (SC-MGF) ont le plaisir de vous inviter au présent cycle de webinaires consacré aux MGF au prisme de l’asile. \n\nObjectif : vers une meilleure protection internationale des demandes liées à l’excision et autres violences basées sur le genre. Rôle de l’avocat.e\, analyse de la jurisprudence\, actualités juridiques et présentation des ressources juridiques. \nInvitée et experte : Cécile Taymans\, avocate. \n\nPublic cible\n\nAvocat·es\nPracticien·nes du droit\nSecteurs de l’asile\n\nTous niveaux de connaissance. \nLes avocat·es ont droit à trois points de formation par session. \nPrérequis\nEnd FGM E-Campus : formation en ligne certifiée et gratuite sur les MGF \n\n\nInfos pratiques\n\nDate : mardi 16 septembre 2025\nHoraire : 14h – 16h\nLieu : en ligne\, sur Zoom\nInscription via ce formulaire\nPour plus d’infos : contactez keyla@gams.be\n\n\n\n\n			\n				Je m'inscris !
URL:https://gams.be/evenement/webinaire-role-de-lavocat%c2%b7e/
LOCATION:En ligne\, Belgium
CATEGORIES:Formation,Webinaire
ATTACH;FMTTYPE=image/jpeg:https://gams.be/wp-content/uploads/2025/03/Copie-de-20250424_Resume_webinaire.jpg
END:VEVENT
END:VCALENDAR