BEGIN:VCALENDAR
VERSION:2.0
PRODID:-//GAMS.be - ECPv6.14.0//NONSGML v1.0//EN
CALSCALE:GREGORIAN
METHOD:PUBLISH
X-WR-CALNAME:GAMS.be
X-ORIGINAL-URL:https://gams.be
X-WR-CALDESC:Events for GAMS.be
REFRESH-INTERVAL;VALUE=DURATION:PT1H
X-Robots-Tag:noindex
X-PUBLISHED-TTL:PT1H
BEGIN:VTIMEZONE
TZID:Europe/Brussels
BEGIN:DAYLIGHT
TZOFFSETFROM:+0100
TZOFFSETTO:+0200
TZNAME:CEST
DTSTART:20250330T010000
END:DAYLIGHT
BEGIN:STANDARD
TZOFFSETFROM:+0200
TZOFFSETTO:+0100
TZNAME:CET
DTSTART:20251026T010000
END:STANDARD
END:VTIMEZONE
BEGIN:VEVENT
DTSTART;TZID=Europe/Brussels:20250621T110000
DTEND;TZID=Europe/Brussels:20250621T170000
DTSTAMP:20260422T140819
CREATED:20250507T075539Z
LAST-MODIFIED:20250507T075544Z
UID:23226125-1750503600-1750525200@gams.be
SUMMARY:Assemblée Générale du GAMS Belgique
DESCRIPTION:Le GAMS Belgique vous invite le 21 juin pour son Assemblée Générale !\n \nProgramme :\n11h : accueil et brunch\n13h : début de l’Assemblée\n17h : fin\n \n\nPour votre information : pour EUR 25/an vous serez membre et vous pourrez voter !\nIBAN GAMS : BE37 0012 8683 3928\nCommunication : Cotisation 2025\n\n\n \n\n\n\nInfos pratiques\n\nDate : samedi 21 juin 2025\nHoraire : 13h-17h\, accueil et brunch à partir de 11h\nLieu : Amazone asbl\, salle Marie Popelin (rue du Méridien 10\, 1210 Bruxelles)\nInscription via ce formulaire\n\n\n\n\n			\n				Je m'inscris !
URL:https://gams.be/evenement/ag-gams-2025/
LOCATION:Amazone asbl\, Rue du Méridien 10\, Bruxelles\, Bruxelles\, 1210\, Belgium
CATEGORIES:Événements
ATTACH;FMTTYPE=image/png:https://gams.be/wp-content/uploads/2025/05/FR.png
END:VEVENT
END:VCALENDAR