BEGIN:VCALENDAR
VERSION:2.0
PRODID:-//GAMS.be - ECPv6.14.0//NONSGML v1.0//EN
CALSCALE:GREGORIAN
METHOD:PUBLISH
X-WR-CALNAME:GAMS.be
X-ORIGINAL-URL:https://gams.be
X-WR-CALDESC:Events for GAMS.be
REFRESH-INTERVAL;VALUE=DURATION:PT1H
X-Robots-Tag:noindex
X-PUBLISHED-TTL:PT1H
BEGIN:VTIMEZONE
TZID:Europe/Brussels
BEGIN:DAYLIGHT
TZOFFSETFROM:+0100
TZOFFSETTO:+0200
TZNAME:CEST
DTSTART:20250330T010000
END:DAYLIGHT
BEGIN:STANDARD
TZOFFSETFROM:+0200
TZOFFSETTO:+0100
TZNAME:CET
DTSTART:20251026T010000
END:STANDARD
END:VTIMEZONE
BEGIN:VEVENT
DTSTART;TZID=Europe/Brussels:20250404T160000
DTEND;TZID=Europe/Brussels:20250404T183000
DTSTAMP:20260419T213820
CREATED:20250325T125615Z
LAST-MODIFIED:20250325T130710Z
UID:23225841-1743782400-1743791400@gams.be
SUMMARY:Webinaire - Comprendre les besoins des auteur⸱es pour éviter la violence
DESCRIPTION:Vous souhaitez en savoir plus sur les besoins des auteur⸱es afin d’éviter la violence et briser le cycle de la récidive ? Rejoignez-nous pour ce webinaire !  \n\n\nCet événement gratuit\, organisé par la Coalition Feminists for Justice (dont fait partie le GAMS) avec le soutien de l’Institut pour l’égalité entre les femmes et les hommes\, s’inscrit dans le cadre de notre cycle de séminaires dédié à repenser les outils juridiques pour mieux prévenir et combattre les violences faites aux femmes.\n \nNous nous réjouissons de vous retrouver à l’occasion du webinaire et d’échanger avec vous sur ce sujet qui se promet d’être riche et passionnant.\n \n\n\n\nInfos pratiques\n\nDate : vendredi 4 avril 2025\nHoraire : 16h – 18h30\nLieu : en ligne\, sur Microsoft Teams\nInscription via ce formulaire\nPlus d’infos : contactez le +32 (0)81/71.75.78 ou écrivez à l’adresse info@femmesdedroit.be\n\n\n\n\n			\n				Je m'inscris !
URL:https://gams.be/evenement/webinaire-comprendre-les-besoins-des-auteur%e2%b8%b1es-pour-eviter-la-violence/
LOCATION:En ligne\, Belgium
CATEGORIES:Formation,Webinaire
ATTACH;FMTTYPE=image/png:https://gams.be/wp-content/uploads/2025/03/Visuel-webinaire.png
END:VEVENT
END:VCALENDAR