BEGIN:VCALENDAR
VERSION:2.0
PRODID:-//GAMS.be - ECPv6.14.0//NONSGML v1.0//EN
CALSCALE:GREGORIAN
METHOD:PUBLISH
X-WR-CALNAME:GAMS.be
X-ORIGINAL-URL:https://gams.be
X-WR-CALDESC:Events for GAMS.be
REFRESH-INTERVAL;VALUE=DURATION:PT1H
X-Robots-Tag:noindex
X-PUBLISHED-TTL:PT1H
BEGIN:VTIMEZONE
TZID:Europe/Brussels
BEGIN:DAYLIGHT
TZOFFSETFROM:+0100
TZOFFSETTO:+0200
TZNAME:CEST
DTSTART:20250330T010000
END:DAYLIGHT
BEGIN:STANDARD
TZOFFSETFROM:+0200
TZOFFSETTO:+0100
TZNAME:CET
DTSTART:20251026T010000
END:STANDARD
END:VTIMEZONE
BEGIN:VEVENT
DTSTART;TZID=Europe/Brussels:20250311T140000
DTEND;TZID=Europe/Brussels:20250311T160000
DTSTAMP:20260419T170930
CREATED:20250130T143022Z
LAST-MODIFIED:20250130T153008Z
UID:23225252-1741701600-1741708800@gams.be
SUMMARY:Webinaire "Accompagnement thérapeutique des femmes ayant vécu une excision"
DESCRIPTION:« Regards croisés Québec-Belgique sur l’accompagnement thérapeutique des femmes ayant vécu une excision »\nLe GAMS Belgique\, en collaboration avec CeMAVIE\, Sensolia et WBI\, vous invite à un webinaire exceptionnel entre la Belgique et le Québec. \nAvec la participation des équipes multidisciplinaires du CEMAVIE (CHU Saint-Pierre\, Bruxelles) et de la Fondation Sensolia (Montréal)\, cette rencontre mettra en lumière : \n\nLes besoins exprimés par les femmes en matière d’accompagnement\nLes services actuellement offerts et ce qu’il faudrait développer dans le futur\n\nAvec le soutien de Wallonie-Bruxelles International et de la Coopération Québec. \n\n\n\n\nInfos pratiques\n\nDate : Mardi 11 mars 2025\nHoraire : 14h-16h (heure de Bruxelles)\, 8h-10h (heure de Montréal)\nLieu : En ligne\, sur Zoom\nInscription via ce formulaire.\n\n\n\n			\n				Je m'inscris
URL:https://gams.be/evenement/webinaire-accompagnement-therapeutique-des-femmes-ayant-vecu-une-excision/
LOCATION:Sur Zoom !\, Belgium
CATEGORIES:Webinaire
ATTACH;FMTTYPE=image/png:https://gams.be/wp-content/uploads/2025/01/20250311_GAMS_WBI_VISU_Webinaire-1.png
END:VEVENT
END:VCALENDAR