BEGIN:VCALENDAR
VERSION:2.0
PRODID:-//GAMS.be - ECPv6.14.0//NONSGML v1.0//EN
CALSCALE:GREGORIAN
METHOD:PUBLISH
X-WR-CALNAME:GAMS.be
X-ORIGINAL-URL:https://gams.be
X-WR-CALDESC:Events for GAMS.be
REFRESH-INTERVAL;VALUE=DURATION:PT1H
X-Robots-Tag:noindex
X-PUBLISHED-TTL:PT1H
BEGIN:VTIMEZONE
TZID:Europe/Brussels
BEGIN:DAYLIGHT
TZOFFSETFROM:+0100
TZOFFSETTO:+0200
TZNAME:CEST
DTSTART:20250330T010000
END:DAYLIGHT
BEGIN:STANDARD
TZOFFSETFROM:+0200
TZOFFSETTO:+0100
TZNAME:CET
DTSTART:20251026T010000
END:STANDARD
END:VTIMEZONE
BEGIN:VEVENT
DTSTART;TZID=Europe/Brussels:20250626T140000
DTEND;TZID=Europe/Brussels:20250626T160000
DTSTAMP:20260419T170751
CREATED:20250611T101241Z
LAST-MODIFIED:20250611T102110Z
UID:23226363-1750946400-1750953600@gams.be
SUMMARY:Série d'ateliers en ligne "Parents Protecteurs" - Atelier n° 3
DESCRIPTION:Quel est l’impact des stratégies de protection utilisées ? Quelle est la conséquence de ces différentes stratégies dans la vie des parents protecteurs ?\nLes Stratégies concertées contre les mutilations génitales féminines (SC-MGF)\, réseau de professionnel·les coordonné par le GAMS Be\, vous invitent à un cycle de webinaires consacré au rôle crucial des parents protecteurs dans la lutte contre l’excision. \nFace à ce défi\, les SC-MGF s’engagent à contribuer au renforcement des capacités de leurs membres afin de pouvoir comprendre et mieux accompagner les parents protecteurs. \n  \nContexte\nDans certaines cultures\, l’excision est une norme sociale forte. S’y opposer expose les parents à des conflits familiaux\, du rejet et un isolement douloureux. Pour éviter la rupture\, certain·es acceptent des formes « atténuées » d’excision (type I ou II)\, pensant protéger l’enfant tout en maintenant les liens familiaux.  \nCependant\, ces formes restent mutilantes et peuvent causer des séquelles physiques\, psychologiques et comportementales graves. Ce dilemme peut affecter la santé mentale des parents\, tiraillés entre protection et loyauté familiale.  \nDans les demandes d’asile\, ces choix ambivalents peuvent fragiliser la crédibilité du récit parental\, d’où l’importance pour les professionnel·les d’adopter une posture empathique\, sans jugement\, afin d’établir un lien de confiance.  \nL’enjeu est d’accompagner les parents dans une rupture avec la norme culturelle violente\, tout en faisant d’eux des partenaires actifs dans la protection et le bien-être de leur enfant.  \n  \nObjectif\nAccompagner les parents opposés à l’excision tout en protégeant l’enfant\, notamment dans le cadre d’une demande d’asile.  \n  \nIntervenantes\n\nMariama Bah – Coordinatrice des SC-MGF\, modératrice\nCrystel –service AlternativeS\nFatouma Fouad – Relais communautaire\, GAMS Belgique\n\n  \nInfos pratiques\n\nQuand ? jeudi 26 juin 2025\, 14h-16h\nOù ? En ligne\, sur Zoom\nInscription gratuite via ce formulaire\n\n\n\n			\n				Je m'inscris !
URL:https://gams.be/evenement/serie-dateliers-en-ligne-parents-protecteurs-atelier-n-3/
LOCATION:En ligne\, Belgium
CATEGORIES:Webinaire
ATTACH;FMTTYPE=image/png:https://gams.be/wp-content/uploads/2025/06/20250611-Webinaire-parents-protecteurs-Site-Web.png
END:VEVENT
END:VCALENDAR