BEGIN:VCALENDAR
VERSION:2.0
PRODID:-//GAMS.be - ECPv6.14.0//NONSGML v1.0//EN
CALSCALE:GREGORIAN
METHOD:PUBLISH
X-WR-CALNAME:GAMS.be
X-ORIGINAL-URL:https://gams.be
X-WR-CALDESC:Events for GAMS.be
REFRESH-INTERVAL;VALUE=DURATION:PT1H
X-Robots-Tag:noindex
X-PUBLISHED-TTL:PT1H
BEGIN:VTIMEZONE
TZID:Europe/Brussels
BEGIN:DAYLIGHT
TZOFFSETFROM:+0100
TZOFFSETTO:+0200
TZNAME:CEST
DTSTART:20260329T010000
END:DAYLIGHT
BEGIN:STANDARD
TZOFFSETFROM:+0200
TZOFFSETTO:+0100
TZNAME:CET
DTSTART:20261025T010000
END:STANDARD
END:VTIMEZONE
BEGIN:VEVENT
DTSTART;TZID=Europe/Brussels:20260421T080000
DTEND;TZID=Europe/Brussels:20260421T170000
DTSTAMP:20260421T155911
CREATED:20260421T090816Z
LAST-MODIFIED:20260421T092645Z
UID:23228615-1776758400-1776790800@gams.be
SUMMARY:Projection de la campagne de sensibilisation 2026
DESCRIPTION:Projection de la campagne de sensibilisation Pré-Vacances 2026\nLe mercredi 13 mai 2026\, nous vous invitons à découvrir en avant-première notre campagne Pré-Vacances 2026\, lors d’une projection au Cinéma Palace à Bruxelles\, de 10h à 12h. L’accueil se fera à partir de 9h30. \nCette année\, la campagne met particulièrement en avant la jeunesse. Réalisée avec le soutien des groupes Youth Activists et d’une agence de communication\, la vidéo d’une minute donne la parole à des petites filles et adolescentes pour porter un message fort de sensibilisation contre l’excision. \nLa projection sera suivie d’un temps d’échange et de débat\, afin de prolonger la réflexion autour de cette campagne et des enjeux qu’elle soulève. \nL’événement est ouvert à notre public ainsi qu’aux jeunes\, en particulier à celles et ceux qui ont participé à l’élaboration du projet. Pour les jeunes ayant cours ce jour-là\, un justificatif d’absence pourra être fourni par le GAMS. \n  \nInfos pratiques\n\nDate : Mercredi 13 mai 2026\nHoraire : 10h00 – 12h00 – accueil à 9h30\nLieu : Cinéma Palace à Bruxelles – Bd Anspach 85\, 1000 Bruxelles.\nInscription obligatoire via ce formulaire\n\n\n\n			\n				Je m'inscris
URL:https://gams.be/evenement/projection-de-la-campagne-de-sensibilisation-2026/
LOCATION:Cinéma Palace\, Boulevard Anspach 85\, Bruxelles\, 1000
CATEGORIES:Débat,Événements,Projection
ATTACH;FMTTYPE=image/jpeg:https://gams.be/wp-content/uploads/2026/04/13-mai-RS-3-scaled.jpg
END:VEVENT
END:VCALENDAR