BEGIN:VCALENDAR
VERSION:2.0
PRODID:-//GAMS.be - ECPv6.14.0//NONSGML v1.0//EN
CALSCALE:GREGORIAN
METHOD:PUBLISH
X-WR-CALNAME:GAMS.be
X-ORIGINAL-URL:https://gams.be
X-WR-CALDESC:Events for GAMS.be
REFRESH-INTERVAL;VALUE=DURATION:PT1H
X-Robots-Tag:noindex
X-PUBLISHED-TTL:PT1H
BEGIN:VTIMEZONE
TZID:Europe/Brussels
BEGIN:DAYLIGHT
TZOFFSETFROM:+0100
TZOFFSETTO:+0200
TZNAME:CEST
DTSTART:20250330T010000
END:DAYLIGHT
BEGIN:STANDARD
TZOFFSETFROM:+0200
TZOFFSETTO:+0100
TZNAME:CET
DTSTART:20251026T010000
END:STANDARD
END:VTIMEZONE
BEGIN:VEVENT
DTSTART;TZID=Europe/Brussels:20250517T093000
DTEND;TZID=Europe/Brussels:20250517T113000
DTSTAMP:20260421T102337
CREATED:20250430T120520Z
LAST-MODIFIED:20250430T121532Z
UID:23226060-1747474200-1747481400@gams.be
SUMMARY:Lancement campagne pré-vacances
DESCRIPTION: \nC’est avec grand plaisir que le GAMS Belgique vous invite le samedi 17 mai de 10h à 11h30 au Cinéma Palace pour le lancement de sa campagne annuelle de sensibilisation pré-vacances. L’accueil se fera à partir de 9h30. Cette année\, le focus sera mis sur les parents protecteurs.\nAu programme : présentation de la campagne et prises de paroles.\n\n\n\nInfos pratiques\n\nDate : samedi 17 mai 2025\nHoraire : 9h30-11h30\nLieu : Cinéma Palace (Boulevard Anspach 85\, 1000 Bruxelles)\nInscription via ce formulaire\n\n\n\n			\n				Je m'inscris !
URL:https://gams.be/evenement/lancement-campagne-pre-vacances/
LOCATION:Cinéma Palace\, Boulevard Anspach 85\, Bruxelles\, 1000
CATEGORIES:Événements
ATTACH;FMTTYPE=image/png:https://gams.be/wp-content/uploads/2025/04/20250430_Newsletter6.png
END:VEVENT
END:VCALENDAR