BEGIN:VCALENDAR
VERSION:2.0
PRODID:-//GAMS.be - ECPv6.14.0//NONSGML v1.0//EN
CALSCALE:GREGORIAN
METHOD:PUBLISH
X-ORIGINAL-URL:https://gams.be
X-WR-CALDESC:Events for GAMS.be
REFRESH-INTERVAL;VALUE=DURATION:PT1H
X-Robots-Tag:noindex
X-PUBLISHED-TTL:PT1H
BEGIN:VTIMEZONE
TZID:Europe/Brussels
BEGIN:DAYLIGHT
TZOFFSETFROM:+0100
TZOFFSETTO:+0200
TZNAME:CEST
DTSTART:20250330T010000
END:DAYLIGHT
BEGIN:STANDARD
TZOFFSETFROM:+0200
TZOFFSETTO:+0100
TZNAME:CET
DTSTART:20251026T010000
END:STANDARD
BEGIN:DAYLIGHT
TZOFFSETFROM:+0100
TZOFFSETTO:+0200
TZNAME:CEST
DTSTART:20260329T010000
END:DAYLIGHT
BEGIN:STANDARD
TZOFFSETFROM:+0200
TZOFFSETTO:+0100
TZNAME:CET
DTSTART:20261025T010000
END:STANDARD
END:VTIMEZONE
BEGIN:VEVENT
DTSTART;TZID=Europe/Brussels:20250724T100000
DTEND;TZID=Europe/Brussels:20250724T130000
DTSTAMP:20260423T010225
CREATED:20250701T115745Z
LAST-MODIFIED:20250701T121922Z
UID:23226524-1753351200-1753362000@gams.be
SUMMARY:Session 3 for mothers - Sexuality\, sexual rights and contraception
DESCRIPTION: \n\n\n\n\n\n\n\n\n\n\n\nAre you a mother who has experienced female genital mutilation and have a daughter(s)? \nWould you like to better understand menstruation\, how to care for yourself and your daughter(s) during this time\, and how to gain the right knowledge and skills to support them? \nThen join our menstrual wellbeing sessions! \n  \nProgramme for this session\n\nstigmas\ntaboo-breaking misconceptions\nsexuality\nsexual rights\nreconstructive interventions around FGM that have a positive impact on menstrual well-being\n\n  \nWe offer\n\na nice and instructive moment between mothers to exchange experiences\ncare and entertainment for your children\nsnack\n\n\n\n\n\nPractical information\n\nDate: Thursday 24 July 2025\nWhen: 10am – 1pm\nWhere: Huis van het Kind Kortrijk (Dam 8a\, 8500 Kortrijk)\nFree and everyone welcome!\n\n 
URL:https://gams.be/en/evenement/session-3-for-mothers-sexuality-sexual-rights-and-contraception/
LOCATION:Huis van et Kind Kortrijk\, Dam 8a\, Kortrijk\, 8500\, Belgium
CATEGORIES:Workshop
ATTACH;FMTTYPE=image/png:https://gams.be/wp-content/uploads/2025/07/20250701_Agenda_CIClus_EN.png
END:VEVENT
BEGIN:VEVENT
DTSTART;TZID=Europe/Brussels:20250807T100000
DTEND;TZID=Europe/Brussels:20250807T130000
DTSTAMP:20260423T010225
CREATED:20250701T120705Z
LAST-MODIFIED:20250701T121252Z
UID:23226530-1754560800-1754571600@gams.be
SUMMARY:Session 4 for mothers - Tips and tricks to talk to your daughter about menstrual wellbeing
DESCRIPTION:Are you a mother who has experienced female genital mutilation and have a daughter(s)? \nWould you like to better understand menstruation\, how to care for yourself and your daughter(s) during this time\, and how to gain the right knowledge and skills to support them? \nThen join our menstrual wellbeing sessions! \n  \nProgramme for this session\nTips and tricks to support mothers in discussing menstrual wellbeing with their (non-FGV-confronted) daughters with a focus on “body positivity” and “period positivity” and with a focus on the intergenerational transfer of the knowledge gained in the previous sessions. \n  \nWe offer\n\na nice and instructive moment between mothers to exchange experiences\ncare and entertainment for your children\nsnack\n\n\n\n\n\nPractical information\n\nDate: Thursday 7 August 2025\nWhen: 10am – 1pm\nWhere: Huis van het Kind Kortrijk (Dam 8a\, 8500 Kortrijk)\nFree and everyone welcome!\n\n\n\n			\n				More info
URL:https://gams.be/en/evenement/session-4-for-mothers-tips-and-tricks/
LOCATION:Huis van het Kind Kortrijk\, Dam 8a\, Kortrijk\, 8500\, Belgium
CATEGORIES:Workshop
ATTACH;FMTTYPE=image/png:https://gams.be/wp-content/uploads/2025/07/20250701_Agenda_CIClus_EN.png
END:VEVENT
BEGIN:VEVENT
DTSTART;TZID=Europe/Brussels:20260627T093000
DTEND;TZID=Europe/Brussels:20260627T220000
DTSTAMP:20260423T010225
CREATED:20260218T101013Z
LAST-MODIFIED:20260218T101013Z
UID:23228330-1782552600-1782597600@gams.be
SUMMARY:30 years of GAMS
DESCRIPTION:On June 27\, we invite you to celebrate an important milestone: 30 years of commitment by GAMS Belgium alongside girls and women affected by female genital mutilation. These 30 years represent collective struggles\, challenges overcome\, significant progress in care and prevention\, as well as a renewed vision for the years ahead. This day will be an opportunity to look back on the journey so far\, share our new strategic plan\, and above all\, look to the future together. \nProgramme: \n\n9:00–9:30 am: Welcome and breakfast\n• 9:30 am–12:00 pm: Panel discussions with a retrospective\, our evolution\, and the new strategic plan for the coming years\n• 12:00–2:00 pm: Lunch break – food stands\n• 2:00–5:30 pm: Workshops (screenings\, debates\, fishbowl discussions\, artistic workshops)\n• 6:00–10:00 pm: Musical evening\n\nThis event is free and open to everyone. \nLocation: LaVallée\, Rue Adolphe LaVallée 39 – 1080 Brussels \nRegister here.
URL:https://gams.be/en/evenement/30-years-of-gams/
ATTACH;FMTTYPE=image/png:https://gams.be/wp-content/uploads/2026/02/banner-30-ans-scaled.png
END:VEVENT
END:VCALENDAR