BEGIN:VCALENDAR
VERSION:2.0
PRODID:-//GAMS.be - ECPv6.14.0//NONSGML v1.0//EN
CALSCALE:GREGORIAN
METHOD:PUBLISH
X-WR-CALNAME:GAMS.be
X-ORIGINAL-URL:https://gams.be
X-WR-CALDESC:Events for GAMS.be
REFRESH-INTERVAL;VALUE=DURATION:PT1H
X-Robots-Tag:noindex
X-PUBLISHED-TTL:PT1H
BEGIN:VTIMEZONE
TZID:Europe/Brussels
BEGIN:DAYLIGHT
TZOFFSETFROM:+0100
TZOFFSETTO:+0200
TZNAME:CEST
DTSTART:20250330T010000
END:DAYLIGHT
BEGIN:STANDARD
TZOFFSETFROM:+0200
TZOFFSETTO:+0100
TZNAME:CET
DTSTART:20251026T010000
END:STANDARD
END:VTIMEZONE
BEGIN:VEVENT
DTSTART;TZID=Europe/Brussels:20250621T110000
DTEND;TZID=Europe/Brussels:20250621T170000
DTSTAMP:20260423T010746
CREATED:20250507T084115Z
LAST-MODIFIED:20250507T084120Z
UID:23226142-1750503600-1750525200@gams.be
SUMMARY:Annual General Meeting - GAMS Belgium
DESCRIPTION:GAMS Belgium invites you to its General Meeting on 21 June! \nProgramme :11am: welcome and brunch1pm: start of the meeting5pm: end of the meeting \nFor your information: for EUR 25/year you can become a member and vote!IBAN GAMS: BE37 0012 8683 3928Communication: Membership fee 2025 \n\n \n\n\n\nPractical info\n\nDate: Saturday 21 June 2025\nSchedule: 1pm-5pm\, welcome and brunch from 11am\nVenue: Amazone asbl\, salle Marie Popelin (rue du Méridien 10\, 1210 Brussels)\nRegistration via this form\n\n\n\n\n			\n				Register now!
URL:https://gams.be/en/evenement/annual-general-meeting-gams-belgium-2025/
LOCATION:Amazone asbl\, Rue du Méridien 10\, Bruxelles\, Bruxelles\, 1210\, Belgium
CATEGORIES:Event
ATTACH;FMTTYPE=image/png:https://gams.be/wp-content/uploads/2025/05/FR.png
END:VEVENT
BEGIN:VEVENT
DTSTART;TZID=Europe/Brussels:20250517T093000
DTEND;TZID=Europe/Brussels:20250517T113000
DTSTAMP:20260423T010746
CREATED:20250430T131607Z
LAST-MODIFIED:20250430T131613Z
UID:23226087-1747474200-1747481400@gams.be
SUMMARY:Launch of the pre-holiday campaign
DESCRIPTION: \nGAMS Belgium is delighted to invite you to the launch of its annual pre-holiday awareness campaign on Saturday 17 May from 10am to 11.30am at the Cinéma Palace. You will be welcomed from 9.30am. This year\, the focus will be on protective parents.On the programme: presentation of the campaign and speeches. \n\n\n\nPractical info\n\nDate: Saturday 17 May 2025\nSchedule: 9.30am-11.30am\nVenue: Cinéma Palace (Boulevard Anspach 85\, 1000 Bruxelles)\nRegistration via this form\n\n\n\n			\n				Register now!
URL:https://gams.be/en/evenement/launch-of-the-pre-holiday-campaign/
LOCATION:Cinéma Palace\, Boulevard Anspach 85\, Bruxelles\, 1000
CATEGORIES:Event
ATTACH;FMTTYPE=image/png:https://gams.be/wp-content/uploads/2025/04/20250430_Newsletter6.png
END:VEVENT
BEGIN:VEVENT
DTSTART;TZID=Europe/Brussels:20250311T123000
DTEND;TZID=Europe/Brussels:20250311T133000
DTSTAMP:20260423T010746
CREATED:20250226T103236Z
LAST-MODIFIED:20250226T104454Z
UID:23225587-1741696200-1741699800@gams.be
SUMMARY:Webinar - End FGM e-Campus
DESCRIPTION:Would you like to learn more about Female Genital Mutilation (FGM) or update your skills on the subject? Join us on Tuesday 11 March from 12.30pm to 1.30pm for an exclusive webinar dedicated to the End FGM e-Campus platform and its certified training course! \n  \nOn the agenda:\n\nPresentation of the e-Campus platform\nDemonstration of the 5 modules:\n\nIntroduction to FGM\nProtection and Legal Framework\nHealth and Care\nPrevention and Awareness-raising\nCommunity Engagement\n\n\nAnswers to all your questions\n\nThis certified training course is a unique opportunity to deepen your knowledge and equip you to act more effectively in the field. \n  \nPractical info\n\nDate: 11 March 2025\nTime: 12.30 – 1.30 pm\nFormat: Online workshop (the participation link will be sent after registration)\nRegistration required via this form\n\n\n\n			\n				I want to register
URL:https://gams.be/en/evenement/webinar-end-fgm-e-campus/
LOCATION:Online (Zoom)
CATEGORIES:Workshop
ATTACH;FMTTYPE=image/png:https://gams.be/wp-content/uploads/2025/02/Design-sans-titre.png
END:VEVENT
END:VCALENDAR