BEGIN:VCALENDAR
VERSION:2.0
PRODID:-//GAMS.be - ECPv6.14.0//NONSGML v1.0//EN
CALSCALE:GREGORIAN
METHOD:PUBLISH
X-WR-CALNAME:GAMS.be
X-ORIGINAL-URL:https://gams.be
X-WR-CALDESC:Events for GAMS.be
REFRESH-INTERVAL;VALUE=DURATION:PT1H
X-Robots-Tag:noindex
X-PUBLISHED-TTL:PT1H
BEGIN:VTIMEZONE
TZID:Europe/Brussels
BEGIN:DAYLIGHT
TZOFFSETFROM:+0100
TZOFFSETTO:+0200
TZNAME:CEST
DTSTART:20250330T010000
END:DAYLIGHT
BEGIN:STANDARD
TZOFFSETFROM:+0200
TZOFFSETTO:+0100
TZNAME:CET
DTSTART:20251026T010000
END:STANDARD
END:VTIMEZONE
BEGIN:VEVENT
DTSTART;TZID=Europe/Brussels:20250711T180000
DTEND;TZID=Europe/Brussels:20250711T200000
DTSTAMP:20260423T011137
CREATED:20250701T095351Z
LAST-MODIFIED:20250701T121741Z
UID:23226511-1752256800-1752264000@gams.be
SUMMARY:Focus group young people
DESCRIPTION:Group discussion on menstrual wellness and the bond between mother and daughter. \n  \nPractical info\n\nDate: Friday 11 July 2025\nWhen: 6pm-8pm\nWhere: GAMS Brussels (Gabrielle Petitstraat 6\, 1080 Molenbeek)\nMore info and contact: pauline.bekaert@gams.be\n\n			\n				More info
URL:https://gams.be/en/evenement/focus-group-young-people/
LOCATION:GAMS Brussel\, Gabrielle Petitstraat 6\, Molenbeek\, 1080\, Belgium
ATTACH;FMTTYPE=image/png:https://gams.be/wp-content/uploads/2025/07/20250701_Agenda_CIClus_NL.png
END:VEVENT
END:VCALENDAR