BEGIN:VCALENDAR
VERSION:2.0
PRODID:-//GAMS.be - ECPv6.14.0//NONSGML v1.0//EN
CALSCALE:GREGORIAN
METHOD:PUBLISH
X-WR-CALNAME:GAMS.be
X-ORIGINAL-URL:https://gams.be
X-WR-CALDESC:Events for GAMS.be
REFRESH-INTERVAL;VALUE=DURATION:PT1H
X-Robots-Tag:noindex
X-PUBLISHED-TTL:PT1H
BEGIN:VTIMEZONE
TZID:Europe/Brussels
BEGIN:DAYLIGHT
TZOFFSETFROM:+0100
TZOFFSETTO:+0200
TZNAME:CEST
DTSTART:20250330T010000
END:DAYLIGHT
BEGIN:STANDARD
TZOFFSETFROM:+0200
TZOFFSETTO:+0100
TZNAME:CET
DTSTART:20251026T010000
END:STANDARD
END:VTIMEZONE
BEGIN:VEVENT
DTSTART;TZID=Europe/Brussels:20250710T130000
DTEND;TZID=Europe/Brussels:20250710T160000
DTSTAMP:20260423T022233
CREATED:20250701T102230Z
LAST-MODIFIED:20250701T121508Z
UID:23226516-1752152400-1752163200@gams.be
SUMMARY:Session 2 for mothers - Information on the menstrual cycle
DESCRIPTION:Are you a mother who has experienced female genital mutilation and have a daughter(s)? \nWould you like to better understand menstruation\, how to care for yourself and your daughter(s) during this time\, and how to gain the right knowledge and skills to support them? \nThen join our menstrual wellbeing sessions! \nProgramme for this session\n\nbasic knowledge about the reproductive\, non-FGV confronted body\nhormonal cycle\, menarche\, menstruation\nmenstrual products\n\nWe offer\n\na nice and instructive moment between mothers to exchange experiences\ncare and entertainment for your children\nsnack\n\nPractical information\n\nDate: Thursday 10 July 2025\nWhen: 1pm – 4pm\nWhere: Huis van het Kind Kortrijk (Dam 8a\, 8500 Kortrijk)\nFree and everyone welcome!\n\n  \n			\n				More info
URL:https://gams.be/en/evenement/session-2-for-mothers-information-on-the-menstrual-cycle/
LOCATION:Huis van het Kind Kortijk\, Dam 8a\, Kortrijk\, 8500
CATEGORIES:Workshop
ATTACH;FMTTYPE=image/png:https://gams.be/wp-content/uploads/2025/07/20250701_Agenda_CIClus_EN.png
END:VEVENT
END:VCALENDAR